BEGIN:VCALENDAR
VERSION:2.0
PRODID:-//Sabre//Sabre VObject 4.5.8//EN
CALSCALE:GREGORIAN
LAST-MODIFIED:20231213T052514Z
BEGIN:VTIMEZONE
TZID:America/Los_Angeles
X-MICROSOFT-CDO-TZID:13
BEGIN:DAYLIGHT
DTSTART:20230312T100000
TZOFFSETFROM:-0800
TZOFFSETTO:-0700
TZNAME:PDT
END:DAYLIGHT
BEGIN:DAYLIGHT
DTSTART:20240310T100000
TZOFFSETFROM:-0800
TZOFFSETTO:-0700
TZNAME:PDT
END:DAYLIGHT
BEGIN:STANDARD
DTSTART:20231105T090000
TZOFFSETFROM:-0700
TZOFFSETTO:-0800
TZNAME:PST
END:STANDARD
END:VTIMEZONE
BEGIN:VEVENT
UID:3857d3dd-cc4b-498e-8e09-de23eaec98ad
DTSTAMP:20231213T052514Z
SUMMARY:Color CG telecon
DTSTART;TZID=America/Los_Angeles:20231227T100000
DTEND;TZID=America/Los_Angeles:20231227T110000
DESCRIPTION:https://www.w3.org/events/meetings/3857d3dd-cc4b-498e-8e09-de23
 eaec98ad/20231227T100000/\n\nRecurring meeting of the COLOR ON THE WEB COM
 MUNITY GROUP (https://www.w3.org/community/colorweb/)
STATUS:CANCELLED
CREATED:20231213T052114Z
LAST-MODIFIED:20231213T052514Z
SEQUENCE:1
ORGANIZER;CN=W3C Calendar;PARTSTAT=ACCEPTED;ROLE=NON-PARTICIPANT:mailto:nor
 eply@w3.org
ATTENDEE;CUTYPE=GROUP;ROLE=OPT-PARTICIPANT;RSVP=FALSE;CN=Color on the Web C
 ommunity Group:mailto:public-colorweb@w3.org
RECURRENCE-ID;TZID=America/Los_Angeles:20231227T100000
END:VEVENT
END:VCALENDAR
