BEGIN:VCALENDAR
VERSION:2.0
PRODID:-//Sabre//Sabre VObject 4.5.8//EN
CALSCALE:GREGORIAN
LAST-MODIFIED:20250716T065553Z
BEGIN:VTIMEZONE
TZID:Etc/UTC
BEGIN:STANDARD
DTSTART:20240720T150000
TZOFFSETFROM:+0000
TZOFFSETTO:+0000
TZNAME:UTC
END:STANDARD
END:VTIMEZONE
BEGIN:VEVENT
UID:3851c87f-cca3-4877-8599-ab465253b18c
DTSTAMP:20250716T065553Z
SUMMARY:WebRTC WG July 2025 call
DTSTART;TZID=Etc/UTC:20250715T150000
DTEND;TZID=Etc/UTC:20250715T170000
DESCRIPTION:https://www.w3.org/events/meetings/3851c87f-cca3-4877-8599-ab46
 5253b18c/\n\n\n\nAgenda: https://www.w3.org/2011/04/webrtc/wiki/Jul_15_202
 5
STATUS:CONFIRMED
CREATED:20250430T061116Z
LAST-MODIFIED:20250716T065553Z
SEQUENCE:1
ORGANIZER;CN=W3C Calendar;PARTSTAT=ACCEPTED;ROLE=NON-PARTICIPANT:mailto:nor
 eply@w3.org
ATTENDEE;CUTYPE=GROUP;ROLE=OPT-PARTICIPANT;RSVP=FALSE;CN=Web Real-Time Comm
 unications Working Group:mailto:public-webrtc@w3.org
END:VEVENT
END:VCALENDAR
