BEGIN:VCALENDAR
VERSION:2.0
PRODID:-//Sabre//Sabre VObject 4.5.8//EN
CALSCALE:GREGORIAN
LAST-MODIFIED:20250521T124925Z
BEGIN:VTIMEZONE
TZID:Etc/UTC
BEGIN:STANDARD
DTSTART:20240525T150000
TZOFFSETFROM:+0000
TZOFFSETTO:+0000
TZNAME:UTC
END:STANDARD
END:VTIMEZONE
BEGIN:VEVENT
UID:3836ee3f-4e0a-424b-b494-03b3d0e46a65
DTSTAMP:20250521T124925Z
SUMMARY:WebRTC WG May 2025 call
DTSTART;TZID=Etc/UTC:20250520T150000
DTEND;TZID=Etc/UTC:20250520T170000
DESCRIPTION:https://www.w3.org/events/meetings/3836ee3f-4e0a-424b-b494-03b3
 d0e46a65/\n\n\n\nAgenda: https://www.google.com/url?q=https%3A%2F%2Fwww.w3
 .org%2F2011%2F04%2Fwebrtc%2Fwiki%2FMay_20_2025&sa=D&ust=1744727820000000&u
 sg=AOvVaw0nDHeJ_1U1LFoppV2OTBbC
STATUS:CONFIRMED
CREATED:20250410T152841Z
LAST-MODIFIED:20250521T124925Z
SEQUENCE:1
ORGANIZER;CN=W3C Calendar;PARTSTAT=ACCEPTED;ROLE=NON-PARTICIPANT:mailto:nor
 eply@w3.org
ATTENDEE;CUTYPE=GROUP;ROLE=OPT-PARTICIPANT;RSVP=FALSE;CN=Web Real-Time Comm
 unications Working Group:mailto:public-webrtc@w3.org
END:VEVENT
END:VCALENDAR
