BEGIN:VCALENDAR
VERSION:2.0
PRODID:-//Sabre//Sabre VObject 4.5.8//EN
CALSCALE:GREGORIAN
LAST-MODIFIED:20230420T091202Z
BEGIN:VTIMEZONE
TZID:Etc/UTC
BEGIN:STANDARD
DTSTART:20220612T170000
TZOFFSETFROM:+0000
TZOFFSETTO:+0000
TZNAME:UTC
END:STANDARD
END:VTIMEZONE
BEGIN:VEVENT
UID:37d62590-6a05-426a-a635-073887869173
DTSTAMP:20230420T091202Z
SUMMARY:ConsentCG Meeting 07 June 2023
DTSTART;TZID=Etc/UTC:20230607T170000
DTEND;TZID=Etc/UTC:20230607T183000
DESCRIPTION:https://www.w3.org/events/meetings/37d62590-6a05-426a-a635-0738
 87869173/\n\n
STATUS:TENTATIVE
CREATED:20230420T091202Z
LAST-MODIFIED:20230420T091202Z
SEQUENCE:0
ORGANIZER;CN=W3C Calendar;PARTSTAT=ACCEPTED;ROLE=NON-PARTICIPANT:mailto:nor
 eply@w3.org
ATTENDEE;CUTYPE=GROUP;ROLE=OPT-PARTICIPANT;RSVP=FALSE;CN=Consent Community 
 Group:mailto:public-consent@w3.org
END:VEVENT
END:VCALENDAR
