BEGIN:VCALENDAR
VERSION:2.0
PRODID:-//Sabre//Sabre VObject 4.5.8//EN
CALSCALE:GREGORIAN
LAST-MODIFIED:20251103T162450Z
BEGIN:VTIMEZONE
TZID:Asia/Tokyo
X-MICROSOFT-CDO-TZID:20
BEGIN:STANDARD
DTSTART:20241116T004500
TZOFFSETFROM:+0900
TZOFFSETTO:+0900
TZNAME:JST
END:STANDARD
END:VTIMEZONE
BEGIN:VEVENT
UID:3766296e-5858-40b1-92a2-2cf13206addb
DTSTAMP:20251103T162450Z
SUMMARY:Web of Things Plugfest
DTSTART;TZID=Asia/Tokyo:20251111T094500
DTEND;TZID=Asia/Tokyo:20251111T180000
DESCRIPTION:https://www.w3.org/events/meetings/3766296e-5858-40b1-92a2-2cf1
 3206addb/\n\n
STATUS:CONFIRMED
CREATED:20250812T142136Z
LAST-MODIFIED:20251103T162450Z
SEQUENCE:3
ORGANIZER;CN=W3C Calendar;PARTSTAT=ACCEPTED;ROLE=NON-PARTICIPANT:mailto:nor
 eply@w3.org
LOCATION:Floor 3 - 307
CATEGORIES:TPAC 2025,Group Meetings
END:VEVENT
END:VCALENDAR
