BEGIN:VCALENDAR
VERSION:2.0
PRODID:-//Sabre//Sabre VObject 4.5.8//EN
CALSCALE:GREGORIAN
LAST-MODIFIED:20220915T140144Z
BEGIN:VTIMEZONE
TZID:America/Vancouver
BEGIN:STANDARD
DTSTART:20211107T090000
TZOFFSETFROM:-0700
TZOFFSETTO:-0800
TZNAME:PST
END:STANDARD
BEGIN:STANDARD
DTSTART:20221106T090000
TZOFFSETFROM:-0700
TZOFFSETTO:-0800
TZNAME:PST
END:STANDARD
BEGIN:DAYLIGHT
DTSTART:20220313T100000
TZOFFSETFROM:-0800
TZOFFSETTO:-0700
TZNAME:PDT
END:DAYLIGHT
END:VTIMEZONE
BEGIN:VEVENT
UID:374385bc-6221-4c77-82d3-1bd345dc3a01
DTSTAMP:20220915T140144Z
SUMMARY:Media and Entertainment Interest Group
DTSTART;TZID=America/Vancouver:20220915T080000
DTEND;TZID=America/Vancouver:20220915T100000
DESCRIPTION:https://www.w3.org/events/meetings/374385bc-6221-4c77-82d3-1bd3
 45dc3a01/\n\n\n\nAgenda\n\n* Welcome and Introduction - @chrisn (15 minute
 s)\n  * Introduction to MEIG and updates on current activities\n* Applicat
 ion Development for Consumer Products Task Force Charter - @chiefcll (30 m
 inutes)\n* Web Media API Snapshot update - @JohnRiv (30 minutes)\n* Joint 
 meeting with Timed Text Working Group - @nigelmegitt (45 minutes)\n  * Aud
 io description and dubbing\n  * Subtitle document complexity\n* AOB
STATUS:CONFIRMED
CREATED:20220610T053829Z
LAST-MODIFIED:20220915T140144Z
SEQUENCE:6
ORGANIZER;CN=W3C Calendar;PARTSTAT=ACCEPTED;ROLE=NON-PARTICIPANT:mailto:nor
 eply@w3.org
ATTENDEE;CUTYPE=GROUP;ROLE=OPT-PARTICIPANT;RSVP=FALSE;CN=Media and Entertai
 nment Interest Group:mailto:public-web-and-tv@w3.org
LOCATION:Port McNeill - North Tower 4th floor
CATEGORIES:TPAC 2022,Group Meetings
END:VEVENT
END:VCALENDAR
