BEGIN:VCALENDAR
VERSION:2.0
PRODID:-//Sabre//Sabre VObject 4.5.8//EN
CALSCALE:GREGORIAN
LAST-MODIFIED:20260218T182757Z
BEGIN:VTIMEZONE
TZID:Asia/Tokyo
X-MICROSOFT-CDO-TZID:20
BEGIN:STANDARD
DTSTART:20241118T080000
TZOFFSETFROM:+0900
TZOFFSETTO:+0900
TZNAME:JST
END:STANDARD
END:VTIMEZONE
BEGIN:VEVENT
UID:36f74562-3a11-4e81-8a02-65223b6e42b7
DTSTAMP:20260218T182757Z
SUMMARY:PWA Widgets
DTSTART;TZID=Asia/Tokyo:20251113T170000
DTEND;TZID=Asia/Tokyo:20251113T180000
DESCRIPTION:https://www.w3.org/events/meetings/36f74562-3a11-4e81-8a02-6522
 3b6e42b7/\n\nI'd love to have a short conversation around [PWA Widgets](ht
 tps://github.com/MicrosoftEdge/MSEdgeExplainers/blob/main/PWAWidgets/READM
 E.md). PWA Widgets let developers provide configuration for dynamic OS-nat
 ive widgets that can be made available for users\, enhancing their experie
 nce with the PWA beyond the PWA's window. Think calendars\, reading lists\
 , and TODOs.\n\n**Goal(s):**\nGet feedback on interest in PWA widgets and 
 the current shape of the explainer\, as well as user journeys that could b
 e accomplished with widgets.\n\nAgenda\n\n* Overview of the explainer and 
 problem space\n* Example of how it can be used today in Windows\n* Discuss
 ion around the problem space.\n\n**Materials:**\n- [Session proposal on Gi
 tHub](https://github.com/w3c/tpac2025-breakouts/issues/91)
STATUS:CONFIRMED
CREATED:20251111T033019Z
LAST-MODIFIED:20260218T182757Z
SEQUENCE:1
ORGANIZER;CN=W3C Calendar;PARTSTAT=ACCEPTED;ROLE=NON-PARTICIPANT:mailto:nor
 eply@w3.org
LOCATION:Floor 4 - 404
CATEGORIES:TPAC 2025,Breakout Sessions
END:VEVENT
END:VCALENDAR
