BEGIN:VCALENDAR
VERSION:2.0
PRODID:-//Sabre//Sabre VObject 4.5.8//EN
CALSCALE:GREGORIAN
LAST-MODIFIED:20231221T075458Z
BEGIN:VTIMEZONE
TZID:America/New_York
X-MICROSOFT-CDO-TZID:10
BEGIN:DAYLIGHT
DTSTART:20230312T070000
TZOFFSETFROM:-0500
TZOFFSETTO:-0400
TZNAME:EDT
END:DAYLIGHT
BEGIN:DAYLIGHT
DTSTART:20240310T070000
TZOFFSETFROM:-0500
TZOFFSETTO:-0400
TZNAME:EDT
END:DAYLIGHT
BEGIN:STANDARD
DTSTART:20231105T060000
TZOFFSETFROM:-0400
TZOFFSETTO:-0500
TZNAME:EST
END:STANDARD
END:VTIMEZONE
BEGIN:VEVENT
UID:36ecd2da-2ec3-4012-b74a-72546ab352f4
DTSTAMP:20231221T075458Z
SUMMARY:VCWG Meeting
DTSTART;TZID=America/New_York:20231220T150000
DTEND;TZID=America/New_York:20231220T160000
DESCRIPTION:https://www.w3.org/events/meetings/36ecd2da-2ec3-4012-b74a-7254
 6ab352f4/20231220T150000/\n\nThe regular meeting for the Verifiable Creden
 tials Working Group.\nMeeting time is friendly for participants in Asia/Am
 ericas.\n\nAgenda\n\n### Date and Time:\nWednesday 20 Dec 2023\nTime: 3:00
  PM Boston (60min)\nLocal date/time link: https://www.timeanddate.com/worl
 dclock/fixedtime.html?msg=VCWG+Meeting&iso=20231220T15&p1=43&ah=1\n\n### S
 PECIAL NOTE\, if any:\nLast Meeting until 2024-01-03\nHappy Holidays!\n\n#
 ## Scribe list: \nPhilL\, GregB\, GabeC\, DavidC\, AndresU\, BenY\, ManuS\
 , Andres\, DmitriZ\, DaveL\, PaulD\, ChrisA\, MikeJones\, Sebastian\, JAnd
 rieu\, Orie\n\n### Meeting Chair:\nBrent Zundel\n\n### Topics (time)\n1-Ag
 enda Review\, Introductions  (5 min)\n2-Work Item status updates/PRs [1] (
 10 min)\n3-Issue Triage [2] (10 min)\n4-Issue Discussion [3] (30 min)\n\n#
 ### Links\n[1] https://github.com/w3c/vc-data-model/pulls\n[2] https://git
 hub.com/w3c/vc-data-model/issues?q=is%3Aopen+is%3Aissue+-label%3Abefore-CR
 +-label%3Apost-CR+sort%3Aupdated-asc\n[3] https://github.com/w3c/vc-data-m
 odel/issues?q=is%3Aissue+is%3Aopen+label%3Abefore-CR+sort%3Aupdated-asc\n\
 n### Issues marked pending close:\nAs of the time this email was sent\, th
 e following issues and PRs were marked 'pending close':\n\nIssue 1364: htt
 ps://github.com/w3c/vc-data-model/issues/1364\nIssue 1337: https://github.
 com/w3c/vc-data-model/issues/1337\n\nFor an up to date list of the current
  set of 'pending close' issues\, please see: \nhttps://github.com/w3c/vc-d
 ata-model/issues?q=is%3Aissue+is%3Aopen+sort%3Aupdated-asc+label%3A%22pend
 ing+close%22
STATUS:TENTATIVE
CREATED:20231218T190638Z
LAST-MODIFIED:20231221T075458Z
SEQUENCE:1
ORGANIZER;CN=W3C Calendar;PARTSTAT=ACCEPTED;ROLE=NON-PARTICIPANT:mailto:nor
 eply@w3.org
ATTENDEE;CUTYPE=GROUP;ROLE=OPT-PARTICIPANT;RSVP=FALSE;CN=Verifiable Credent
 ials Working Group:mailto:public-vc-wg@w3.org
RECURRENCE-ID;TZID=America/New_York:20231220T150000
END:VEVENT
END:VCALENDAR
