BEGIN:VCALENDAR
VERSION:2.0
PRODID:-//Sabre//Sabre VObject 4.5.8//EN
CALSCALE:GREGORIAN
LAST-MODIFIED:20231026T073750Z
BEGIN:VTIMEZONE
TZID:America/New_York
X-MICROSOFT-CDO-TZID:10
BEGIN:STANDARD
DTSTART:20221106T060000
TZOFFSETFROM:-0400
TZOFFSETTO:-0500
TZNAME:EST
END:STANDARD
BEGIN:STANDARD
DTSTART:20231105T060000
TZOFFSETFROM:-0400
TZOFFSETTO:-0500
TZNAME:EST
END:STANDARD
BEGIN:DAYLIGHT
DTSTART:20230312T070000
TZOFFSETFROM:-0500
TZOFFSETTO:-0400
TZNAME:EDT
END:DAYLIGHT
END:VTIMEZONE
BEGIN:VEVENT
UID:36ecd2da-2ec3-4012-b74a-72546ab352f4
DTSTAMP:20231026T073750Z
SUMMARY:VCWG Meeting
DTSTART;TZID=America/New_York:20231025T150000
DTEND;TZID=America/New_York:20231025T160000
DESCRIPTION:https://www.w3.org/events/meetings/36ecd2da-2ec3-4012-b74a-7254
 6ab352f4/20231025T150000/\n\nThe regular meeting for the Verifiable Creden
 tials Working Group.\nMeeting time is friendly for participants in Asia/Am
 ericas.\n\nAgenda\n\n### Date and Time:\nWednesday 25 Oct 2023\nTime: 3:00
  PM Boston (60min)\nLocal date/time link: https://www.timeanddate.com/worl
 dclock/fixedtime.html?msg=VCWG+Meeting&iso=20231025T15&p1=43&ah=1\n\n### S
 PECIAL NOTE\, if any:\n\n\n### Scribe list: \nKevinD\, ChrisA\, PhilL\, Mi
 keJones\, MikeP\, DmitriZ\, Andres\, GregB\, GabeC\, DavidW\, NickS\, Paul
 D\, Sebastian\, JAndrieu\, DavidC\, AndresU\, BenY\, DaveL\, Orie\, ManuS\
 n\n### Meeting Chair:\nBrent Zundel\n\n### Topics (time)\n1-Agenda Review\
 , Introductions  (5 min)\n2-Work Item status updates/PRs [1] (10 min)\n3-I
 ssue Discussion [2] (30 min)\n\n#### Links\n[1] https://github.com/w3c/vc-
 data-model/pulls\n[2] https://github.com/w3c/vc-data-model/issues?q=is%3Ao
 pen+is%3Aissue+label%3Abefore-CR+sort%3Aupdated-asc+-label%3A%22pr+exists%
 22+-label%3A%22ready+for+PR%22+\n\n### Issues marked pending close:\nAs of
  the time this email was sent\, the following issues were marked 'pending 
 close':\n\nIssue 1248: https://github.com/w3c/vc-data-model/issues/1248\n\
 nFor an up to date list of the current set of 'pending close' issues\, ple
 ase see: \nhttps://github.com/w3c/vc-data-model/issues?q=is%3Aissue+is%3Ao
 pen+sort%3Aupdated-asc+label%3A%22pending+close%22
STATUS:CONFIRMED
CREATED:20231023T204832Z
LAST-MODIFIED:20231026T073750Z
SEQUENCE:2
ORGANIZER;CN=W3C Calendar;PARTSTAT=ACCEPTED;ROLE=NON-PARTICIPANT:mailto:nor
 eply@w3.org
ATTENDEE;CUTYPE=GROUP;ROLE=OPT-PARTICIPANT;RSVP=FALSE;CN=Verifiable Credent
 ials Working Group:mailto:public-vc-wg@w3.org
RECURRENCE-ID;TZID=America/New_York:20231025T150000
END:VEVENT
END:VCALENDAR
