BEGIN:VCALENDAR
VERSION:2.0
PRODID:-//Sabre//Sabre VObject 4.5.8//EN
CALSCALE:GREGORIAN
LAST-MODIFIED:20230620T231528Z
BEGIN:VTIMEZONE
TZID:America/New_York
X-MICROSOFT-CDO-TZID:10
BEGIN:STANDARD
DTSTART:20221106T060000
TZOFFSETFROM:-0400
TZOFFSETTO:-0500
TZNAME:EST
END:STANDARD
BEGIN:STANDARD
DTSTART:20231105T060000
TZOFFSETFROM:-0400
TZOFFSETTO:-0500
TZNAME:EST
END:STANDARD
BEGIN:DAYLIGHT
DTSTART:20230312T070000
TZOFFSETFROM:-0500
TZOFFSETTO:-0400
TZNAME:EDT
END:DAYLIGHT
END:VTIMEZONE
BEGIN:VEVENT
UID:36ecd2da-2ec3-4012-b74a-72546ab352f4
DTSTAMP:20230620T231528Z
SUMMARY:VCWG Meeting
DTSTART;TZID=America/New_York:20230621T150000
DTEND;TZID=America/New_York:20230621T160000
DESCRIPTION:https://www.w3.org/events/meetings/36ecd2da-2ec3-4012-b74a-7254
 6ab352f4/20230621T150000/\n\nThe regular meeting for the Verifiable Creden
 tials Working Group.\nMeeting time is friendly for participants in Asia/Am
 ericas.\n\nAgenda\n\n### Date and Time:\nWednesday 21 Jun 2023\nTime: 3:00
  PM Boston (60min)\nLocal date/time link: https://www.timeanddate.com/worl
 dclock/fixedtime.html?msg=VCWG+Meeting&iso=20230621T15&p1=43&ah=1\n\n### S
 PECIAL NOTE\, if any:\n\n\n### Scribe list: \nSten\, DavidLehn\, SteveM\, 
 Sebastian\, MikeJones\, Mahmoud\, WillA\, KevinG\, DmitriZ\, PaulD\, Kerri
 eL\, DavidC\, Markus\, KevinD\, Orie\, GabeC\, ChrisA\, Oliver\, PhilL\, J
 Andrieu\, SamS\, DaveL\, ManuS\, Andres\, PhilF\, AndresU\, MikeP\n\n### M
 eeting Chair:\nKristina Yasuda\n\n### Topics (time)\n1-Agenda Review\, Int
 roductions  (5 min)\n2-Work Item status updates/PRs [1] (5 min)\n3-VC-JWT 
 PR 88 [2] (10 min)\n4-VC Data Model PR 1100 and 1101 [3] (10 min)\n5-VC Da
 ta Model PR 1140 [4] (10 min)\n6-Issue Discussion [5] (15 min)\n\n#### Lin
 ks\n[1] https://github.com/w3c/vc-data-model/pulls?q=is%3Aopen+is%3Apr+-la
 bel%3A%22pending+close%22+-label%3Adiscuss+sort%3Aupdated-asc\n[2] https:/
 /github.com/w3c/vc-jwt/pull/88\n[3] https://github.com/w3c/vc-data-model/p
 ulls?q=is%3Apr+is%3Aopen+label%3Adiscuss\n[4] https://github.com/w3c/vc-da
 ta-model/pull/1140\n[5] https://github.com/w3c/vc-data-model/issues?q=is%3
 Aissue+is%3Aopen+sort%3Aupdated-asc\n\n### Issues marked pending close:\nA
 s of the time this email was sent\, the following issues were marked 'pend
 ing close':\n\nIssue 1147: https://github.com/w3c/vc-data-model/issues/114
 7\n\nFor an up to date list of the current set of 'pending close' issues\,
  please see: \nhttps://github.com/w3c/vc-data-model/issues?q=is%3Aissue+is
 %3Aopen+sort%3Aupdated-asc+label%3A%22pending+close%22
STATUS:CONFIRMED
CREATED:20230620T231527Z
LAST-MODIFIED:20230620T231528Z
SEQUENCE:2
ORGANIZER;CN=W3C Calendar;PARTSTAT=ACCEPTED;ROLE=NON-PARTICIPANT:mailto:nor
 eply@w3.org
ATTENDEE;CUTYPE=GROUP;ROLE=OPT-PARTICIPANT;RSVP=FALSE;CN=Verifiable Credent
 ials Working Group:mailto:public-vc-wg@w3.org
RECURRENCE-ID;TZID=America/New_York:20230621T150000
END:VEVENT
END:VCALENDAR
