BEGIN:VCALENDAR
VERSION:2.0
PRODID:-//Sabre//Sabre VObject 4.5.8//EN
CALSCALE:GREGORIAN
LAST-MODIFIED:20230608T093544Z
BEGIN:VTIMEZONE
TZID:America/New_York
X-MICROSOFT-CDO-TZID:10
BEGIN:STANDARD
DTSTART:20221106T060000
TZOFFSETFROM:-0400
TZOFFSETTO:-0500
TZNAME:EST
END:STANDARD
BEGIN:STANDARD
DTSTART:20231105T060000
TZOFFSETFROM:-0400
TZOFFSETTO:-0500
TZNAME:EST
END:STANDARD
BEGIN:DAYLIGHT
DTSTART:20230312T070000
TZOFFSETFROM:-0500
TZOFFSETTO:-0400
TZNAME:EDT
END:DAYLIGHT
END:VTIMEZONE
BEGIN:VEVENT
UID:36ecd2da-2ec3-4012-b74a-72546ab352f4
DTSTAMP:20230608T093544Z
SUMMARY:VCWG Meeting
DTSTART;TZID=America/New_York:20230607T150000
DTEND;TZID=America/New_York:20230607T160000
DESCRIPTION:https://www.w3.org/events/meetings/36ecd2da-2ec3-4012-b74a-7254
 6ab352f4/20230607T150000/\n\nThe regular meeting for the Verifiable Creden
 tials Working Group.\nMeeting time is friendly for participants in Asia/Am
 ericas.\n\nAgenda\n\n### Date and Time:\nWednesday 07 Jun 2023\nTime: 3:00
  PM Boston (60min)\nLocal date/time link: https://www.timeanddate.com/worl
 dclock/fixedtime.html?msg=VCWG+Meeting&iso=20230607T15&p1=43&ah=1\n\n### S
 PECIAL NOTE\, if any:\n\n\n### Scribe list: \nSten\, DavidLehn\, SteveM\, 
 Sebastian\, MikeJones\, Mahmoud\, PhilF\, WillA\, KevinG\, DmitriZ\, PaulD
 \, ManuS\, KerrieL\, DavidC\, Markus\, KevinD\, MikeP\, Orie\, GabeC\, Chr
 isA\, Oliver\, PhilL\, JAndrieu\, SamS\, DaveL\n\n### Meeting Chair:\nBren
 t Zundel\n\n### Topics (time)\n1-Agenda Review\, Introductions  (5 min)\n2
 -Work Item status updates/PRs [1] (15 min)\n3-Issue Discussion [2] (35 min
 )\n\n#### Links\n[1] https://github.com/w3c/vc-data-model/pulls?q=is%3Apr+
 is%3Aopen+label%3Adiscuss\n[2] https://github.com/w3c/vc-data-model/issues
 ?q=is%3Aissue+is%3Aopen+sort%3Aupdated-asc\n\n### Issues marked pending cl
 ose:\nAs of the time this email was sent\, the following issues were marke
 d 'pending close':\n\nIssue 915: https://github.com/w3c/vc-data-model/issu
 es/915\n\nFor an up to date list of the current set of 'pending close' iss
 ues\, please see: \nhttps://github.com/w3c/vc-data-model/issues?q=is%3Aiss
 ue+is%3Aopen+sort%3Aupdated-asc+label%3A%22pending+close%22
STATUS:CONFIRMED
CREATED:20230606T193733Z
LAST-MODIFIED:20230608T093544Z
SEQUENCE:2
ORGANIZER;CN=W3C Calendar;PARTSTAT=ACCEPTED;ROLE=NON-PARTICIPANT:mailto:nor
 eply@w3.org
ATTENDEE;CUTYPE=GROUP;ROLE=OPT-PARTICIPANT;RSVP=FALSE;CN=Verifiable Credent
 ials Working Group:mailto:public-vc-wg@w3.org
RECURRENCE-ID;TZID=America/New_York:20230607T150000
END:VEVENT
END:VCALENDAR
