BEGIN:VCALENDAR
VERSION:2.0
PRODID:-//Sabre//Sabre VObject 4.5.8//EN
CALSCALE:GREGORIAN
LAST-MODIFIED:20230508T200054Z
BEGIN:VTIMEZONE
TZID:America/New_York
X-MICROSOFT-CDO-TZID:10
BEGIN:STANDARD
DTSTART:20221106T060000
TZOFFSETFROM:-0400
TZOFFSETTO:-0500
TZNAME:EST
END:STANDARD
BEGIN:STANDARD
DTSTART:20231105T060000
TZOFFSETFROM:-0400
TZOFFSETTO:-0500
TZNAME:EST
END:STANDARD
BEGIN:DAYLIGHT
DTSTART:20230312T070000
TZOFFSETFROM:-0500
TZOFFSETTO:-0400
TZNAME:EDT
END:DAYLIGHT
END:VTIMEZONE
BEGIN:VEVENT
UID:36ecd2da-2ec3-4012-b74a-72546ab352f4
DTSTAMP:20230508T200054Z
SUMMARY:VCWG Meeting
DTSTART;TZID=America/New_York:20230510T150000
DTEND;TZID=America/New_York:20230510T160000
DESCRIPTION:https://www.w3.org/events/meetings/36ecd2da-2ec3-4012-b74a-7254
 6ab352f4/20230510T150000/\n\nThe regular meeting for the Verifiable Creden
 tials Working Group.\nMeeting time is friendly for participants in Asia/Am
 ericas.\n\nAgenda\n\n### Date and Time:\nWednesday 10 May 2023\nTime: 3:00
  PM Boston (60min)\nLocal date/time link: https://www.timeanddate.com/worl
 dclock/fixedtime.html?msg=VCWG+Meeting&iso=20230510T15&p1=43&ah=1\n\n### S
 PECIAL NOTE\, if any:\nPlease note there is a new Zoom meeting link. Pleas
 e update your calendar invites to make sure you're connecting to the right
  meeting.\n\n### Scribe list: \nSten\, CharlesL\, DavidLehn\, SteveM\, Phi
 lL\, Sebastian\, JAndrieu\, DavidW\, MikeJones\, Mahmoud\, PhilF\, WillA\,
  KevinG\, DaveL\, DmitriZ\, PaulD\, ManuS\, KerrieL\, DavidC\, Markus\, Ke
 vinD\, MikeP\, Orie\, GabeC\, ChrisA\, Oliver\n\n### Meeting Chair:\nBrent
  Zundel\n\n### Topics (time)\n1-Agenda Review\, Introductions  (5 min)\n2-
 Work Item status updates/PRs  (45 min)\n3-Issue Discussion [2] (5 min)\n\n
 #### Links\n[2] https://github.com/w3c/vc-data-model/issues?q=is%3Aissue+i
 s%3Aopen+sort%3Aupdated-asc+no%3Aassignee+\n\n### Issues marked pending cl
 ose:\nAs of the time this email was sent\, the following issues were marke
 d 'pending close':\n\nIssue 960: https://github.com/w3c/vc-data-model/issu
 es/960\nIssue 1074: https://github.com/w3c/vc-data-model/issues/1074\n\nFo
 r an up to date list of the current set of 'pending close' issues\, please
  see: \nhttps://github.com/w3c/vc-data-model/issues?q=is%3Aissue+is%3Aopen
 +sort%3Aupdated-asc+label%3A%22pending+close%22
STATUS:CONFIRMED
CREATED:20230508T200054Z
LAST-MODIFIED:20230508T200054Z
SEQUENCE:2
ORGANIZER;CN=W3C Calendar;PARTSTAT=ACCEPTED;ROLE=NON-PARTICIPANT:mailto:nor
 eply@w3.org
ATTENDEE;CUTYPE=GROUP;ROLE=OPT-PARTICIPANT;RSVP=FALSE;CN=Verifiable Credent
 ials Working Group:mailto:public-vc-wg@w3.org
RECURRENCE-ID;TZID=America/New_York:20230510T150000
END:VEVENT
END:VCALENDAR
