BEGIN:VCALENDAR
VERSION:2.0
PRODID:-//Sabre//Sabre VObject 4.5.8//EN
CALSCALE:GREGORIAN
LAST-MODIFIED:20260205T171329Z
BEGIN:VTIMEZONE
TZID:Etc/UTC
BEGIN:STANDARD
DTSTART:20241230T170000
TZOFFSETFROM:+0000
TZOFFSETTO:+0000
TZNAME:UTC
END:STANDARD
END:VTIMEZONE
BEGIN:VEVENT
UID:36c35cf6-2888-4e71-86a2-32de0afcc1af
DTSTAMP:20260205T171329Z
SUMMARY:Manifest Working Session (EU/US)
DTSTART;TZID=Etc/UTC:20251225T170000
DTEND;TZID=Etc/UTC:20251225T180000
DESCRIPTION:https://www.w3.org/events/meetings/36c35cf6-2888-4e71-86a2-32de
 0afcc1af/\n\n
STATUS:TENTATIVE
CREATED:20251204T234515Z
LAST-MODIFIED:20260205T171329Z
SEQUENCE:2
ORGANIZER;CN=W3C Calendar;PARTSTAT=ACCEPTED;ROLE=NON-PARTICIPANT:mailto:nor
 eply@w3.org
ATTENDEE;CUTYPE=GROUP;ROLE=OPT-PARTICIPANT;RSVP=FALSE;CN=Web Applications W
 orking Group:mailto:public-webapps@w3.org
RRULE:FREQ=WEEKLY;UNTIL=20260115T170000Z;INTERVAL=3;BYDAY=TH;WKST=MO
RELATED-TO:38af820b-976b-4913-b234-4f8be3cd2de9
END:VEVENT
BEGIN:VEVENT
UID:36c35cf6-2888-4e71-86a2-32de0afcc1af
DTSTAMP:20251204T234816Z
SUMMARY:Manifest Working Session (EU/US)
DTSTART;TZID=Etc/UTC:20251225T170000
DTEND;TZID=Etc/UTC:20251225T180000
DESCRIPTION:https://www.w3.org/events/meetings/36c35cf6-2888-4e71-86a2-32de
 0afcc1af/20251225T170000/\n\n
STATUS:CANCELLED
CREATED:20251204T234815Z
LAST-MODIFIED:20251204T234816Z
SEQUENCE:2
ORGANIZER;CN=W3C Calendar;PARTSTAT=ACCEPTED;ROLE=NON-PARTICIPANT:mailto:nor
 eply@w3.org
ATTENDEE;CUTYPE=GROUP;ROLE=OPT-PARTICIPANT;RSVP=FALSE;CN=Web Applications W
 orking Group:mailto:public-webapps@w3.org
RECURRENCE-ID;TZID=Etc/UTC:20251225T170000
END:VEVENT
BEGIN:VEVENT
UID:38af820b-976b-4913-b234-4f8be3cd2de9
DTSTAMP:20260205T171328Z
SUMMARY:Manifest Working Session (EU/US)
DTSTART;TZID=Etc/UTC:20260205T170000
DTEND;TZID=Etc/UTC:20260205T180000
DESCRIPTION:https://www.w3.org/events/meetings/38af820b-976b-4913-b234-4f8b
 e3cd2de9/\n\n
STATUS:TENTATIVE
CREATED:20260205T171327Z
LAST-MODIFIED:20260205T171328Z
SEQUENCE:1
ORGANIZER;CN=W3C Calendar;PARTSTAT=ACCEPTED;ROLE=NON-PARTICIPANT:mailto:nor
 eply@w3.org
ATTENDEE;CUTYPE=GROUP;ROLE=OPT-PARTICIPANT;RSVP=FALSE;CN=Web Applications W
 orking Group:mailto:public-webapps@w3.org
RELATED-TO:36c35cf6-2888-4e71-86a2-32de0afcc1af
RRULE:FREQ=WEEKLY;UNTIL=20271205T170000Z;INTERVAL=3;BYDAY=TH;WKST=MO
END:VEVENT
END:VCALENDAR
