BEGIN:VCALENDAR
VERSION:2.0
PRODID:-//Sabre//Sabre VObject 4.5.8//EN
CALSCALE:GREGORIAN
LAST-MODIFIED:20240926T210751Z
BEGIN:VTIMEZONE
TZID:America/Los_Angeles
X-MICROSOFT-CDO-TZID:13
BEGIN:STANDARD
DTSTART:20231105T090000
TZOFFSETFROM:-0700
TZOFFSETTO:-0800
TZNAME:PST
END:STANDARD
BEGIN:STANDARD
DTSTART:20241103T090000
TZOFFSETFROM:-0700
TZOFFSETTO:-0800
TZNAME:PST
END:STANDARD
BEGIN:DAYLIGHT
DTSTART:20240310T100000
TZOFFSETFROM:-0800
TZOFFSETTO:-0700
TZNAME:PDT
END:DAYLIGHT
END:VTIMEZONE
BEGIN:VEVENT
UID:362ce870-78a1-40df-96fb-4c3a7aac0399
DTSTAMP:20240926T210751Z
SUMMARY:Anti-Fraud Community Group
DTSTART;TZID=America/Los_Angeles:20240926T140000
DTEND;TZID=America/Los_Angeles:20240926T160000
DESCRIPTION:https://www.w3.org/events/meetings/362ce870-78a1-40df-96fb-4c3a
 7aac0399/\n\n\n\nAgenda: https://lists.w3.org/Archives/Public/public-antif
 raud/2024Sep/0000.html
STATUS:CONFIRMED
CREATED:20240614T163453Z
LAST-MODIFIED:20240926T210751Z
SEQUENCE:6
ORGANIZER;CN=W3C Calendar;PARTSTAT=ACCEPTED;ROLE=NON-PARTICIPANT:mailto:nor
 eply@w3.org
ATTENDEE;CUTYPE=GROUP;ROLE=OPT-PARTICIPANT;RSVP=FALSE;CN=Anti-Fraud Communi
 ty Group:mailto:public-antifraud@w3.org
LOCATION:-1 Lower Level - Catalina 7
CATEGORIES:TPAC 2024,Group Meetings
END:VEVENT
END:VCALENDAR
