BEGIN:VCALENDAR
VERSION:2.0
PRODID:-//Sabre//Sabre VObject 4.5.8//EN
CALSCALE:GREGORIAN
LAST-MODIFIED:20251208T212542Z
BEGIN:VTIMEZONE
TZID:America/New_York
X-MICROSOFT-CDO-TZID:10
BEGIN:DAYLIGHT
DTSTART:20250309T070000
TZOFFSETFROM:-0500
TZOFFSETTO:-0400
TZNAME:EDT
END:DAYLIGHT
BEGIN:DAYLIGHT
DTSTART:20260308T070000
TZOFFSETFROM:-0500
TZOFFSETTO:-0400
TZNAME:EDT
END:DAYLIGHT
BEGIN:STANDARD
DTSTART:20251102T060000
TZOFFSETFROM:-0400
TZOFFSETTO:-0500
TZNAME:EST
END:STANDARD
END:VTIMEZONE
BEGIN:VEVENT
UID:35a3d481-27b4-463d-a0ab-e4e80da1cf42
DTSTAMP:20251208T212542Z
SUMMARY:JSON-LD WG/CG Meeting
DTSTART;TZID=America/New_York:20251210T120000
DTEND;TZID=America/New_York:20251210T130000
DESCRIPTION:https://www.w3.org/events/meetings/35a3d481-27b4-463d-a0ab-e4e8
 0da1cf42/\n\nAn end of the year recap\, recharter update\, and brief check
 -in for the end of 2025.\n\nAgenda\n\n1. Introductions and Announcements\n
 -------------\n\n2. Recharter Status Update\n-------------\n\n3. Anything 
 Else?\n-------------
STATUS:CONFIRMED
CREATED:20251208T211912Z
LAST-MODIFIED:20251208T212542Z
SEQUENCE:1
ORGANIZER;CN=W3C Calendar;PARTSTAT=ACCEPTED;ROLE=NON-PARTICIPANT:mailto:nor
 eply@w3.org
ATTENDEE;CUTYPE=GROUP;ROLE=OPT-PARTICIPANT;RSVP=FALSE;CN=JSON for Linked Da
 ta Community Group:mailto:public-json-ld@w3.org
ATTENDEE;CUTYPE=GROUP;ROLE=OPT-PARTICIPANT;RSVP=FALSE;CN=JSON-LD Working Gr
 oup:mailto:public-json-ld-wg@w3.org
END:VEVENT
END:VCALENDAR
