BEGIN:VCALENDAR
VERSION:2.0
PRODID:-//Sabre//Sabre VObject 4.5.8//EN
CALSCALE:GREGORIAN
LAST-MODIFIED:20241028T131200Z
BEGIN:VTIMEZONE
TZID:Europe/Berlin
X-MICROSOFT-CDO-TZID:4
BEGIN:DAYLIGHT
DTSTART:20240331T010000
TZOFFSETFROM:+0100
TZOFFSETTO:+0200
TZNAME:CEST
END:DAYLIGHT
BEGIN:DAYLIGHT
DTSTART:20250330T010000
TZOFFSETFROM:+0100
TZOFFSETTO:+0200
TZNAME:CEST
END:DAYLIGHT
BEGIN:STANDARD
DTSTART:20241027T010000
TZOFFSETFROM:+0200
TZOFFSETTO:+0100
TZNAME:CET
END:STANDARD
END:VTIMEZONE
BEGIN:VEVENT
UID:351c4285-805d-460e-a865-fb58085bd49a
DTSTAMP:20241028T131200Z
SUMMARY:Meetup 20: How Siemens Technology Streamlines Building Onboarding w
 ith the Web of Things
DTSTART;TZID=Europe/Berlin:20241028T140000
DTEND;TZID=Europe/Berlin:20241028T153000
DESCRIPTION:https://www.w3.org/events/meetings/351c4285-805d-460e-a865-fb58
 085bd49a/\n\nIn our next meetup\, we welcome Ondrej Tomcik ([LinkedIn](htt
 ps://www.linkedin.com/in/ondrejtomcik/) | [GitHub](https://github.com/ondr
 ejtomcik)) from [Siemens](https://www.siemens.com/global/en.html)!\n\nEver
 y building presents unique challenges\, particularly when it comes to prov
 isioning devices such as fire alarms\, smart meters\, and various sensors.
  The complexity increases when field devices come from multiple vendors\, 
 leading to potential time and cost inefficiencies. Siemens addresses this 
 by leveraging the Web of Things (WoT) standard across both ends: generatin
 g Thing Models for Siemens-manufactured devices and enabling south-bound c
 onnectivity systems to seamlessly integrate and extract data from diverse 
 devices. Join this session to explore how Siemens simplifies device provis
 ioning and maximizes the benefits of WoT!\n\nAgenda\n\n- News from the CG\
 n- Introduction of the Speaker\n- Presentation\n- Q&A\n- Discussion sessio
 n\n\nJoining Instructions: https://teams.microsoft.com/l/meetup-join/19%3a
 meeting_MWZmZTQyOWYtYmFjZS00NzliLWEyMmQtZTE5NGVjMzhiYTdh%40thread.v2/0?con
 text=%7b%22Tid%22%3a%2238ae3bcd-9579-4fd4-adda-b42e1495d55a%22%2c%22Oid%22
 %3a%22d4a09f25-e37d-4f6d-95cf-a8c302d7e2d2%22%7d\n\nJoining Instructions\n
 \nIf the direct link does not work:\n\nGo to: https://www.microsoft.com/en
 -us/microsoft-teams/join-a-meeting\nMeeting ID: 380 046 311 12\nPasscode: 
 X92QBr\n\nFull Link: https://teams.microsoft.com/l/meetup-join/19%3ameetin
 g_MWZmZTQyOWYtYmFjZS00NzliLWEyMmQtZTE5NGVjMzhiYTdh%40thread.v2/0?context=%
 7b%22Tid%22%3a%2238ae3bcd-9579-4fd4-adda-b42e1495d55a%22%2c%22Oid%22%3a%22
 d4a09f25-e37d-4f6d-95cf-a8c302d7e2d2%22%7d
STATUS:CONFIRMED
CREATED:20241023T065744Z
LAST-MODIFIED:20241028T131200Z
SEQUENCE:0
ORGANIZER;CN=W3C Calendar;PARTSTAT=ACCEPTED;ROLE=NON-PARTICIPANT:mailto:nor
 eply@w3.org
ATTENDEE;CUTYPE=GROUP;ROLE=OPT-PARTICIPANT;RSVP=FALSE;CN=Web of Things Comm
 unity Group:mailto:public-web-of-things@w3.org
ATTENDEE;CN=Tobi Appl:mailto:tobi.appl@siemens.com
ATTENDEE;CN=Flavia De Andrade Pereira:mailto:flavia.pereira@ucl.ac.uk
ATTENDEE;CN=Felix Otto:mailto:felix.otto@siemens.com
ATTENDEE;CN=Henk Spaaij:mailto:hspaaij@gmail.com
END:VEVENT
END:VCALENDAR
