BEGIN:VCALENDAR
VERSION:2.0
PRODID:-//Sabre//Sabre VObject 4.5.8//EN
CALSCALE:GREGORIAN
LAST-MODIFIED:20241211T180507Z
BEGIN:VTIMEZONE
TZID:America/New_York
X-MICROSOFT-CDO-TZID:10
BEGIN:DAYLIGHT
DTSTART:20240310T070000
TZOFFSETFROM:-0500
TZOFFSETTO:-0400
TZNAME:EDT
END:DAYLIGHT
BEGIN:DAYLIGHT
DTSTART:20250309T070000
TZOFFSETFROM:-0500
TZOFFSETTO:-0400
TZNAME:EDT
END:DAYLIGHT
BEGIN:STANDARD
DTSTART:20241103T060000
TZOFFSETFROM:-0400
TZOFFSETTO:-0500
TZNAME:EST
END:STANDARD
END:VTIMEZONE
BEGIN:VEVENT
UID:3509d178-04b3-43ae-9bb2-79fb946a91c1
DTSTAMP:20241211T180507Z
SUMMARY:JSON-LD CG Meeting
DTSTART;TZID=America/New_York:20241211T120000
DTEND;TZID=America/New_York:20241211T125500
DESCRIPTION:https://www.w3.org/events/meetings/3509d178-04b3-43ae-9bb2-79fb
 946a91c1/20241211T120000/\n\nDiscussion of outstanding JSON-LD issues\, YA
 ML-LD and related material.\n\nAgenda\n\n1. Announcements and Introduction
 s\n-------------------------------------\n\n2. Profile Negotiation\n\n* Ba
 ckgrounder: https://docs.google.com/document/d/1WUGML4cfthRBKzMW729thjlCZj
 PWku__IjEjdNWq9pU/edit?tab=t.0#heading=h.9caf3yhgody2\n* Content Negotiati
 on by Profile <https://www.w3.org/TR/dx-prof-conneg/>\n* Indicating\, Disc
 overing\, Negotiating\, and Writing Profiled\nRepresentations <https://www
 .dropbox.com/scl/fi/ufgpiu6keksa5uhpingyo/draft-svensson-profiled-represen
 tations-01-hvds.pdf?rlkey=odynvi0lgnjuq1hfqh8oulb8f&e=1&dl=0>\n* w3c/json-
 ld-syntax#436 – URI in Profile triggers CORS Unsafe Request Header Byte 
 rule\n\n3. Issue Discussion\n-----------------------------\n\nhttps://gith
 ub.com/orgs/w3c/projects/84\n\nSpecifically:\n\n* w3c/json-ld-api#608 – 
 Resolve the questions about "JSON Serialization" term.\n  * w3c/json-ld-ap
 i#605 – It is not clear enough what "JSON Serialization" is.\n  * w3c/js
 on-ld-api#579 – Inconsistent interface for Deserialize JSON-LD.\n* w3c/j
 son-ld-api#585 – Add graph container array tests.\n* w3c/json-ld-syntax#
 439 – Fix @direction not listed under context definition's definition.\n
 * w3c/json-ld-syntax#423 – Normative references to discontinued specs in
  JSON-LD 1.1.\n* Further issue classification.\n\n4. Charter Discussion\n-
 ----------------------------\n\nhttps://json-ld.github.io/json-ld-wg-chart
 er/\n\n5. Next call\n---------------------
STATUS:CONFIRMED
CREATED:20241209T211754Z
LAST-MODIFIED:20241211T180507Z
SEQUENCE:2
ORGANIZER;CN=W3C Calendar;PARTSTAT=ACCEPTED;ROLE=NON-PARTICIPANT:mailto:nor
 eply@w3.org
ATTENDEE;CUTYPE=GROUP;ROLE=OPT-PARTICIPANT;RSVP=FALSE;CN=JSON for Linked Da
 ta Community Group:mailto:public-json-ld@w3.org
ATTENDEE;CUTYPE=GROUP;ROLE=OPT-PARTICIPANT;RSVP=FALSE;CN=JSON-LD Working Gr
 oup:mailto:public-json-ld-wg@w3.org
RECURRENCE-ID;TZID=America/New_York:20241211T120000
END:VEVENT
END:VCALENDAR
