BEGIN:VCALENDAR
VERSION:2.0
PRODID:-//Sabre//Sabre VObject 4.5.8//EN
CALSCALE:GREGORIAN
LAST-MODIFIED:20240425T182213Z
BEGIN:VTIMEZONE
TZID:America/Los_Angeles
X-MICROSOFT-CDO-TZID:13
BEGIN:STANDARD
DTSTART:20231105T090000
TZOFFSETFROM:-0700
TZOFFSETTO:-0800
TZNAME:PST
END:STANDARD
BEGIN:STANDARD
DTSTART:20241103T090000
TZOFFSETFROM:-0700
TZOFFSETTO:-0800
TZNAME:PST
END:STANDARD
BEGIN:DAYLIGHT
DTSTART:20240310T100000
TZOFFSETFROM:-0800
TZOFFSETTO:-0700
TZNAME:PDT
END:DAYLIGHT
END:VTIMEZONE
BEGIN:VEVENT
UID:3478d4d2-3257-4a84-9f45-beb9cd0467dd
DTSTAMP:20240425T182213Z
SUMMARY:ARIA Deep Dive - Should form field in cells have name computed from
  table/grid headers
DTSTART;TZID=America/Los_Angeles:20240502T090000
DTEND;TZID=America/Los_Angeles:20240502T100000
DESCRIPTION:https://www.w3.org/events/meetings/3478d4d2-3257-4a84-9f45-beb9
 cd0467dd/\n\nTo discuss: https://github.com/w3c/aria/issues/2148#issuecomm
 ent-2071058491
STATUS:CONFIRMED
CREATED:20240425T182155Z
LAST-MODIFIED:20240425T182213Z
SEQUENCE:1
ORGANIZER;CN=W3C Calendar;PARTSTAT=ACCEPTED;ROLE=NON-PARTICIPANT:mailto:nor
 eply@w3.org
ATTENDEE;CUTYPE=GROUP;ROLE=OPT-PARTICIPANT;RSVP=FALSE;CN=Accessible Rich In
 ternet Applications Working Group:mailto:public-aria@w3.org
END:VEVENT
END:VCALENDAR
