BEGIN:VCALENDAR
VERSION:2.0
PRODID:-//Sabre//Sabre VObject 4.5.8//EN
CALSCALE:GREGORIAN
LAST-MODIFIED:20240808T110424Z
BEGIN:VTIMEZONE
TZID:America/New_York
X-MICROSOFT-CDO-TZID:10
BEGIN:STANDARD
DTSTART:20231105T060000
TZOFFSETFROM:-0400
TZOFFSETTO:-0500
TZNAME:EST
END:STANDARD
BEGIN:STANDARD
DTSTART:20241103T060000
TZOFFSETFROM:-0400
TZOFFSETTO:-0500
TZNAME:EST
END:STANDARD
BEGIN:DAYLIGHT
DTSTART:20240310T070000
TZOFFSETFROM:-0500
TZOFFSETTO:-0400
TZNAME:EDT
END:DAYLIGHT
END:VTIMEZONE
BEGIN:VEVENT
UID:3459c51e-d7d9-4d8f-93c1-956fd555ff2a
DTSTAMP:20240808T110424Z
SUMMARY:WoT Marketing
DTSTART;TZID=America/New_York:20240815T073000
DTEND;TZID=America/New_York:20240815T080000
DESCRIPTION:https://www.w3.org/events/meetings/3459c51e-d7d9-4d8f-93c1-956f
 d555ff2a/20240815T073000/\n\nPublic Holiday in Bavaria\n\nThe [WoT Marketi
 ng task force](https://www.w3.org/WoT/IG/wiki/Marketing_WebConf) is respon
 sible for reaching out and collaborating with the community to increase th
 e adoption of the WoT. The Marketing Task Force works on promoting the W3C
  Web of Things in different ways such as Web presence\, Social Media prese
 nce\, and more.\n\n[IRC: #wot-marketing](https://irc.w3.org/?channels=wot-
 marketing)\n\nAgenda: https://www.w3.org/WoT/IG/wiki/Marketing_WebConf#Age
 ndas
STATUS:CANCELLED
CREATED:20240808T110423Z
LAST-MODIFIED:20240808T110424Z
SEQUENCE:4
ORGANIZER;CN=W3C Calendar;PARTSTAT=ACCEPTED;ROLE=NON-PARTICIPANT:mailto:nor
 eply@w3.org
ATTENDEE;CUTYPE=GROUP;ROLE=OPT-PARTICIPANT;RSVP=FALSE;CN=Web of Things Inte
 rest Group:mailto:public-wot-ig@w3.org
ATTENDEE;CUTYPE=GROUP;ROLE=OPT-PARTICIPANT;RSVP=FALSE;CN=Web of Things Work
 ing Group:mailto:public-wot-wg@w3.org
LOCATION:Zoom
RECURRENCE-ID;TZID=America/New_York:20240815T073000
END:VEVENT
END:VCALENDAR
