BEGIN:VCALENDAR
VERSION:2.0
PRODID:-//Sabre//Sabre VObject 4.5.8//EN
CALSCALE:GREGORIAN
LAST-MODIFIED:20260219T072932Z
BEGIN:VTIMEZONE
TZID:Asia/Tokyo
X-MICROSOFT-CDO-TZID:20
BEGIN:STANDARD
DTSTART:20241115T233000
TZOFFSETFROM:+0900
TZOFFSETTO:+0900
TZNAME:JST
END:STANDARD
END:VTIMEZONE
BEGIN:VEVENT
UID:344a5851-3cea-4905-b920-996ee476bb10
DTSTAMP:20260219T072932Z
SUMMARY:WebView quirks and testing
DTSTART;TZID=Asia/Tokyo:20251111T083000
DTEND;TZID=Asia/Tokyo:20251111T093000
DESCRIPTION:https://www.w3.org/events/meetings/344a5851-3cea-4905-b920-996e
 e476bb10/\n\nThis is a session for everyone to tell stories about weird bu
 gs and behaviors in WebViews. You can also learn how to test your web cont
 ent in WebViews. We would like to present a few reasons and resources for 
 testing your web content inside WebViews. Then it’s time to share some c
 omplex or weird issues you had with WebViews over the years and present so
 me hacky workarounds.\n\n**Please bring your stories and issues and share 
 them with us!** We maintain the site [caniwebview.com](http://caniwebview.
 com/) and would like to add some examples of when WebViews are doing stran
 ge things and provide developers with help to deal with them.\n\n**Goal(s)
 :**\n* Collect WebViews bugs workarounds\n* Spread the word on testing Web
 Views\n\nAgenda: https://github.com/WebView-CG/tpac/blob/main/TPAC-2025/Br
 eakout/WebViewQuirksAndTestingAgenda.md\n\nAgenda\n\n**Materials:**\n- [sl
 ides](https://webview-cg.github.io/tpac/TPAC-2025/Breakout/WebViewQuirksan
 dTesting.html)\n- [Session proposal on GitHub](https://github.com/w3c/tpac
 2025-breakouts/issues/20)
STATUS:CONFIRMED
CREATED:20251028T073531Z
LAST-MODIFIED:20260219T072932Z
SEQUENCE:3
ORGANIZER;CN=W3C Calendar;PARTSTAT=ACCEPTED;ROLE=NON-PARTICIPANT:mailto:nor
 eply@w3.org
LOCATION:Floor 4 - 405
CATEGORIES:TPAC 2025,Breakout Sessions
END:VEVENT
END:VCALENDAR
