BEGIN:VCALENDAR
VERSION:2.0
PRODID:-//Sabre//Sabre VObject 4.5.8//EN
CALSCALE:GREGORIAN
LAST-MODIFIED:20220915T205725Z
BEGIN:VTIMEZONE
TZID:America/Vancouver
BEGIN:STANDARD
DTSTART:20211107T090000
TZOFFSETFROM:-0700
TZOFFSETTO:-0800
TZNAME:PST
END:STANDARD
BEGIN:STANDARD
DTSTART:20221106T090000
TZOFFSETFROM:-0700
TZOFFSETTO:-0800
TZNAME:PST
END:STANDARD
BEGIN:DAYLIGHT
DTSTART:20220313T100000
TZOFFSETFROM:-0800
TZOFFSETTO:-0700
TZNAME:PDT
END:DAYLIGHT
END:VTIMEZONE
BEGIN:VEVENT
UID:33ec551b-968b-4756-9ac2-c12faef5e24e
DTSTAMP:20220915T205725Z
SUMMARY:Audiovisual Media Formats for Browsers Community Group
DTSTART;TZID=America/Vancouver:20220915T133000
DTEND;TZID=America/Vancouver:20220915T150000
DESCRIPTION:https://www.w3.org/events/meetings/33ec551b-968b-4756-9ac2-c12f
 aef5e24e/\n\n
STATUS:CONFIRMED
CREATED:20220815T002439Z
LAST-MODIFIED:20220915T205725Z
SEQUENCE:4
ORGANIZER;CN=W3C Calendar;PARTSTAT=ACCEPTED;ROLE=NON-PARTICIPANT:mailto:nor
 eply@w3.org
ATTENDEE;CUTYPE=GROUP;ROLE=OPT-PARTICIPANT;RSVP=FALSE;CN=Audiovisual Media 
 Formats for Browsers Community Group:mailto:public-av4browsers@w3.org
LOCATION:Columbia - South Tower 4th floor
CATEGORIES:TPAC 2022,Group Meetings
END:VEVENT
END:VCALENDAR
