BEGIN:VCALENDAR
VERSION:2.0
PRODID:-//Sabre//Sabre VObject 4.5.8//EN
CALSCALE:GREGORIAN
LAST-MODIFIED:20230420T091051Z
BEGIN:VTIMEZONE
TZID:Europe/Vienna
BEGIN:STANDARD
DTSTART:20221030T010000
TZOFFSETFROM:+0200
TZOFFSETTO:+0100
TZNAME:CET
END:STANDARD
BEGIN:STANDARD
DTSTART:20231029T010000
TZOFFSETFROM:+0200
TZOFFSETTO:+0100
TZNAME:CET
END:STANDARD
BEGIN:DAYLIGHT
DTSTART:20230326T010000
TZOFFSETFROM:+0100
TZOFFSETTO:+0200
TZNAME:CEST
END:DAYLIGHT
END:VTIMEZONE
BEGIN:VEVENT
UID:33927555-f0c4-4249-a873-77cfe2aff5c3
DTSTAMP:20230420T091051Z
SUMMARY:ConsentCG Meeting 17 May 2023
DTSTART;TZID=Europe/Vienna:20230517T160000
DTEND;TZID=Europe/Vienna:20230517T172500
DESCRIPTION:https://www.w3.org/events/meetings/33927555-f0c4-4249-a873-77cf
 e2aff5c3/\n\n
STATUS:TENTATIVE
CREATED:20230420T091051Z
LAST-MODIFIED:20230420T091051Z
SEQUENCE:0
ORGANIZER;CN=W3C Calendar;PARTSTAT=ACCEPTED;ROLE=NON-PARTICIPANT:mailto:nor
 eply@w3.org
ATTENDEE;CUTYPE=GROUP;ROLE=OPT-PARTICIPANT;RSVP=FALSE;CN=Consent Community 
 Group:mailto:public-consent@w3.org
LOCATION:Online/Virtual
END:VEVENT
END:VCALENDAR
