BEGIN:VCALENDAR
VERSION:2.0
PRODID:-//Sabre//Sabre VObject 4.5.8//EN
CALSCALE:GREGORIAN
LAST-MODIFIED:20251118T132947Z
BEGIN:VTIMEZONE
TZID:Asia/Tokyo
X-MICROSOFT-CDO-TZID:20
BEGIN:STANDARD
DTSTART:20241118T000000
TZOFFSETFROM:+0900
TZOFFSETTO:+0900
TZNAME:JST
END:STANDARD
END:VTIMEZONE
BEGIN:VEVENT
UID:32b7c7e5-b0cf-42c9-94c4-9e384526f4a3
DTSTAMP:20251118T132947Z
SUMMARY:Chinese Web Interest Group
DTSTART;TZID=Asia/Tokyo:20251113T090000
DTEND;TZID=Asia/Tokyo:20251113T123000
DESCRIPTION:https://www.w3.org/events/meetings/32b7c7e5-b0cf-42c9-94c4-9e38
 4526f4a3/\n\n\n\nAgenda\n\n* 09:00-09:05 Opening\n* 09:05-09:30 Review the
  Chinese Web IG's activities since our last TPAC ([slides](https://github.
 com/w3c/chinese-ig/blob/main/TPAC2025/slides/chinese-web-ig-tpac2025.pdf))
 - Xueyuan Jia (Chinese Web IG Staff Contact)\n* 09:30-10:00 Open discussio
 n about Chinese IG\n* 10:00-10:30 MiniApps standardization update ([slides
 ](https://espinr.github.io/talks/2025/1113-MiniApps-TPAC-ChineseIG/index.h
 tml))- Martin Alvarez-Espinar (MiniApps WG Chair)\n* 10:30-11:00 Break\n* 
 11:00-11:30 Web AI Agent Rendering Containers - Dynamic Architectures and 
 the Need for Standardization ([slides](https://github.com/w3c/chinese-ig/b
 lob/main/TPAC2025/slides/Web%20AI%20Agent%20Rendering%20Containers%20%20.p
 df)) - Hai Rao (Ant Group) \n* 11:30-12:00 sm3 & sm4 VS WebCrypto ([slides
 ](https://github.com/w3c/chinese-ig/blob/main/TPAC2025/slides/W3C%20SM3%20
 SM4%20vs%20WebCrypto-EN.pdf)) - Zhilei Zhang (Qihoo360)\n* 12:00-12:30 Ope
 n discussion
STATUS:CONFIRMED
CREATED:20250716T142402Z
LAST-MODIFIED:20251118T132947Z
SEQUENCE:8
ORGANIZER;CN=W3C Calendar;PARTSTAT=ACCEPTED;ROLE=NON-PARTICIPANT:mailto:nor
 eply@w3.org
ATTENDEE;CUTYPE=GROUP;ROLE=OPT-PARTICIPANT;RSVP=FALSE;CN=Chinese Web Intere
 st Group:mailto:public-chinese-web@w3.org
LOCATION:Floor 3 - 306
CATEGORIES:TPAC 2025,Group Meetings
END:VEVENT
END:VCALENDAR
