BEGIN:VCALENDAR
VERSION:2.0
PRODID:-//Sabre//Sabre VObject 4.5.8//EN
CALSCALE:GREGORIAN
LAST-MODIFIED:20251103T174748Z
BEGIN:VTIMEZONE
TZID:Asia/Tokyo
X-MICROSOFT-CDO-TZID:20
BEGIN:STANDARD
DTSTART:20241116T051500
TZOFFSETFROM:+0900
TZOFFSETTO:+0900
TZNAME:JST
END:STANDARD
END:VTIMEZONE
BEGIN:VEVENT
UID:322c6ef9-6541-404f-9159-ad45f9339614
DTSTAMP:20251103T174748Z
SUMMARY:Audio Working Group
DTSTART;TZID=Asia/Tokyo:20251111T141500
DTEND;TZID=Asia/Tokyo:20251111T180000
DESCRIPTION:https://www.w3.org/events/meetings/322c6ef9-6541-404f-9159-ad45
 f9339614/\n\n
STATUS:CONFIRMED
CREATED:20250716T142633Z
LAST-MODIFIED:20251103T174748Z
SEQUENCE:8
ORGANIZER;CN=W3C Calendar;PARTSTAT=ACCEPTED;ROLE=NON-PARTICIPANT:mailto:nor
 eply@w3.org
ATTENDEE;CUTYPE=GROUP;ROLE=OPT-PARTICIPANT;RSVP=FALSE;CN=Audio Working Grou
 p:mailto:public-audio@w3.org
LOCATION:Floor 3 - 304
CATEGORIES:TPAC 2025,Group Meetings
END:VEVENT
END:VCALENDAR
