BEGIN:VCALENDAR
VERSION:2.0
PRODID:-//Sabre//Sabre VObject 4.5.8//EN
CALSCALE:GREGORIAN
LAST-MODIFIED:20240614T135123Z
BEGIN:VTIMEZONE
TZID:America/New_York
X-MICROSOFT-CDO-TZID:10
BEGIN:STANDARD
DTSTART:20231105T060000
TZOFFSETFROM:-0400
TZOFFSETTO:-0500
TZNAME:EST
END:STANDARD
BEGIN:STANDARD
DTSTART:20241103T060000
TZOFFSETFROM:-0400
TZOFFSETTO:-0500
TZNAME:EST
END:STANDARD
BEGIN:DAYLIGHT
DTSTART:20240310T070000
TZOFFSETFROM:-0500
TZOFFSETTO:-0400
TZNAME:EDT
END:DAYLIGHT
END:VTIMEZONE
BEGIN:VEVENT
UID:31ee66ec-2e6a-48da-b18a-69b7147474f3
DTSTAMP:20240614T135123Z
SUMMARY:W3C [PBG] Meeting - Americas/Asia
DTSTART;TZID=America/New_York:20240625T200000
DTEND;TZID=America/New_York:20240625T210000
DESCRIPTION:https://www.w3.org/events/meetings/31ee66ec-2e6a-48da-b18a-69b7
 147474f3/\n\nregular PBG Meeting\nAgenda to be sent via email
STATUS:CONFIRMED
CREATED:20240614T135042Z
LAST-MODIFIED:20240614T135123Z
SEQUENCE:1
ORGANIZER;CN=W3C Calendar;PARTSTAT=ACCEPTED;ROLE=NON-PARTICIPANT:mailto:nor
 eply@w3.org
ATTENDEE;CUTYPE=GROUP;ROLE=OPT-PARTICIPANT;RSVP=FALSE;CN=Publishing Busines
 s Group:mailto:public-publishingbg@w3.org
END:VEVENT
END:VCALENDAR
