BEGIN:VCALENDAR
VERSION:2.0
PRODID:-//Sabre//Sabre VObject 4.5.8//EN
CALSCALE:GREGORIAN
LAST-MODIFIED:20250528T134513Z
BEGIN:VTIMEZONE
TZID:Etc/UTC
BEGIN:STANDARD
DTSTART:20240604T160000
TZOFFSETFROM:+0000
TZOFFSETTO:+0000
TZNAME:UTC
END:STANDARD
END:VTIMEZONE
BEGIN:VEVENT
UID:31da9d31-d304-4f37-9190-563521d60298
DTSTAMP:20250528T134513Z
SUMMARY:WebView CG Meeting
DTSTART;TZID=Etc/UTC:20250530T160000
DTEND;TZID=Etc/UTC:20250530T170000
DESCRIPTION:https://www.w3.org/events/meetings/31da9d31-d304-4f37-9190-5635
 21d60298/\n\nLet's continue the discussion on the WebView definition and s
 ome small announcements\n\nAgenda: https://bit.ly/webview-cg-may-2025\n\nA
 genda\n\nDraft:\n\n* WebView definition discussion\n* Open Collective\n* T
 esting apps & web driver\n* more\n\nLink will follow
STATUS:CONFIRMED
CREATED:20250526T062649Z
LAST-MODIFIED:20250528T134513Z
SEQUENCE:0
ORGANIZER;CN=W3C Calendar;PARTSTAT=ACCEPTED;ROLE=NON-PARTICIPANT:mailto:nor
 eply@w3.org
ATTENDEE;CUTYPE=GROUP;ROLE=OPT-PARTICIPANT;RSVP=FALSE;CN=WebView Community 
 Group:mailto:public-webview@w3.org
END:VEVENT
END:VCALENDAR
