BEGIN:VCALENDAR
VERSION:2.0
PRODID:-//Sabre//Sabre VObject 4.5.8//EN
CALSCALE:GREGORIAN
LAST-MODIFIED:20220620T021048Z
BEGIN:VTIMEZONE
TZID:America/New_York
X-MICROSOFT-CDO-TZID:10
BEGIN:DAYLIGHT
DTSTART:20210314T070000
TZOFFSETFROM:-0500
TZOFFSETTO:-0400
TZNAME:EDT
END:DAYLIGHT
BEGIN:DAYLIGHT
DTSTART:20220313T070000
TZOFFSETFROM:-0500
TZOFFSETTO:-0400
TZNAME:EDT
END:DAYLIGHT
BEGIN:DAYLIGHT
DTSTART:20230312T070000
TZOFFSETFROM:-0500
TZOFFSETTO:-0400
TZNAME:EDT
END:DAYLIGHT
BEGIN:STANDARD
DTSTART:20211107T060000
TZOFFSETFROM:-0400
TZOFFSETTO:-0500
TZNAME:EST
END:STANDARD
BEGIN:STANDARD
DTSTART:20221106T060000
TZOFFSETFROM:-0400
TZOFFSETTO:-0500
TZNAME:EST
END:STANDARD
END:VTIMEZONE
BEGIN:VEVENT
UID:3152e30b-138c-4b97-b80a-47893bdb970a
DTSTAMP:20220114T230747Z
SUMMARY:DID WG Meeting
DTSTART;TZID=America/New_York:20220118T110000
DTEND;TZID=America/New_York:20220118T120000
DESCRIPTION:https://www.w3.org/events/meetings/3152e30b-138c-4b97-b80a-4789
 3bdb970a/\n\nA regular weekly meeting of the DID WG\, with a time friendly
  for Europe/America.
STATUS:TENTATIVE
CREATED:20220105T174352Z
LAST-MODIFIED:20220114T230747Z
SEQUENCE:0
ORGANIZER;CN=W3C Calendar;PARTSTAT=ACCEPTED;ROLE=NON-PARTICIPANT:mailto:nor
 eply@w3.org
ATTENDEE;CUTYPE=GROUP;ROLE=OPT-PARTICIPANT;RSVP=FALSE;CN=Decentralized Iden
 tifier Working Group:mailto:public-did-wg@w3.org
RELATED-TO:d7dbd92f-6254-4aa0-be52-534c7f5ea7a8
RRULE:FREQ=MONTHLY;UNTIL=20220630T150000Z;INTERVAL=1;BYDAY=TU;BYSETPOS=3;WK
 ST=MO
END:VEVENT
BEGIN:VEVENT
UID:3152e30b-138c-4b97-b80a-47893bdb970a
DTSTAMP:20220114T230745Z
SUMMARY:DID WG Meeting
DTSTART;TZID=America/New_York:20220118T110000
DTEND;TZID=America/New_York:20220118T120000
DESCRIPTION:https://www.w3.org/events/meetings/3152e30b-138c-4b97-b80a-4789
 3bdb970a/20220118T110000/\n\nA regular weekly meeting of the DID WG\, with
  a time friendly for Europe/America.
STATUS:CANCELLED
CREATED:20220114T230744Z
LAST-MODIFIED:20220114T230745Z
SEQUENCE:1
ORGANIZER;CN=W3C Calendar;PARTSTAT=ACCEPTED;ROLE=NON-PARTICIPANT:mailto:nor
 eply@w3.org
ATTENDEE;CUTYPE=GROUP;ROLE=OPT-PARTICIPANT;RSVP=FALSE;CN=Decentralized Iden
 tifier Working Group:mailto:public-did-wg@w3.org
RECURRENCE-ID;TZID=America/New_York:20220118T110000
END:VEVENT
BEGIN:VEVENT
UID:3152e30b-138c-4b97-b80a-47893bdb970a
DTSTAMP:20220211T151903Z
SUMMARY:DID WG Meeting
DTSTART;TZID=America/New_York:20220215T110000
DTEND;TZID=America/New_York:20220215T120000
DESCRIPTION:https://www.w3.org/events/meetings/3152e30b-138c-4b97-b80a-4789
 3bdb970a/20220215T110000/\n\nA regular weekly meeting of the DID WG\, with
  a time friendly for Europe/America.
STATUS:CANCELLED
CREATED:20220211T151901Z
LAST-MODIFIED:20220211T151903Z
SEQUENCE:1
ORGANIZER;CN=W3C Calendar;PARTSTAT=ACCEPTED;ROLE=NON-PARTICIPANT:mailto:nor
 eply@w3.org
ATTENDEE;CUTYPE=GROUP;ROLE=OPT-PARTICIPANT;RSVP=FALSE;CN=Decentralized Iden
 tifier Working Group:mailto:public-did-wg@w3.org
RECURRENCE-ID;TZID=America/New_York:20220215T110000
END:VEVENT
BEGIN:VEVENT
UID:3152e30b-138c-4b97-b80a-47893bdb970a
DTSTAMP:20220311T175142Z
SUMMARY:DID WG Meeting
DTSTART;TZID=America/New_York:20220315T110000
DTEND;TZID=America/New_York:20220315T120000
DESCRIPTION:https://www.w3.org/events/meetings/3152e30b-138c-4b97-b80a-4789
 3bdb970a/20220315T110000/\n\nA regular weekly meeting of the DID WG\, with
  a time friendly for Europe/America.
STATUS:CANCELLED
CREATED:20220311T175141Z
LAST-MODIFIED:20220311T175142Z
SEQUENCE:1
ORGANIZER;CN=W3C Calendar;PARTSTAT=ACCEPTED;ROLE=NON-PARTICIPANT:mailto:nor
 eply@w3.org
ATTENDEE;CUTYPE=GROUP;ROLE=OPT-PARTICIPANT;RSVP=FALSE;CN=Decentralized Iden
 tifier Working Group:mailto:public-did-wg@w3.org
RECURRENCE-ID;TZID=America/New_York:20220315T110000
END:VEVENT
BEGIN:VEVENT
UID:3152e30b-138c-4b97-b80a-47893bdb970a
DTSTAMP:20220419T001025Z
SUMMARY:DID WG Meeting
DTSTART;TZID=America/New_York:20220419T110000
DTEND;TZID=America/New_York:20220419T120000
DESCRIPTION:https://www.w3.org/events/meetings/3152e30b-138c-4b97-b80a-4789
 3bdb970a/20220419T110000/\n\nA regular weekly meeting of the DID WG\, with
  a time friendly for Europe/America.
STATUS:CANCELLED
CREATED:20220419T001024Z
LAST-MODIFIED:20220419T001025Z
SEQUENCE:1
ORGANIZER;CN=W3C Calendar;PARTSTAT=ACCEPTED;ROLE=NON-PARTICIPANT:mailto:nor
 eply@w3.org
ATTENDEE;CUTYPE=GROUP;ROLE=OPT-PARTICIPANT;RSVP=FALSE;CN=Decentralized Iden
 tifier Working Group:mailto:public-did-wg@w3.org
RECURRENCE-ID;TZID=America/New_York:20220419T110000
END:VEVENT
BEGIN:VEVENT
UID:3152e30b-138c-4b97-b80a-47893bdb970a
DTSTAMP:20220516T194950Z
SUMMARY:DID WG Meeting
DTSTART;TZID=America/New_York:20220517T110000
DTEND;TZID=America/New_York:20220517T120000
DESCRIPTION:https://www.w3.org/events/meetings/3152e30b-138c-4b97-b80a-4789
 3bdb970a/20220517T110000/\n\nA regular weekly meeting of the DID WG\, with
  a time friendly for Europe/America.
STATUS:CANCELLED
CREATED:20220516T194949Z
LAST-MODIFIED:20220516T194950Z
SEQUENCE:1
ORGANIZER;CN=W3C Calendar;PARTSTAT=ACCEPTED;ROLE=NON-PARTICIPANT:mailto:nor
 eply@w3.org
ATTENDEE;CUTYPE=GROUP;ROLE=OPT-PARTICIPANT;RSVP=FALSE;CN=Decentralized Iden
 tifier Working Group:mailto:public-did-wg@w3.org
RECURRENCE-ID;TZID=America/New_York:20220517T110000
END:VEVENT
BEGIN:VEVENT
UID:3152e30b-138c-4b97-b80a-47893bdb970a
DTSTAMP:20220620T021048Z
SUMMARY:DID WG Meeting
DTSTART;TZID=America/New_York:20220621T110000
DTEND;TZID=America/New_York:20220621T120000
DESCRIPTION:https://www.w3.org/events/meetings/3152e30b-138c-4b97-b80a-4789
 3bdb970a/20220621T110000/\n\nA regular weekly meeting of the DID WG\, with
  a time friendly for Europe/America.
STATUS:CANCELLED
CREATED:20220620T021047Z
LAST-MODIFIED:20220620T021048Z
SEQUENCE:1
ORGANIZER;CN=W3C Calendar;PARTSTAT=ACCEPTED;ROLE=NON-PARTICIPANT:mailto:nor
 eply@w3.org
ATTENDEE;CUTYPE=GROUP;ROLE=OPT-PARTICIPANT;RSVP=FALSE;CN=Decentralized Iden
 tifier Working Group:mailto:public-did-wg@w3.org
RECURRENCE-ID;TZID=America/New_York:20220621T110000
END:VEVENT
BEGIN:VEVENT
UID:d7dbd92f-6254-4aa0-be52-534c7f5ea7a8
DTSTAMP:20220105T174352Z
SUMMARY:DID WG Meeting
DTSTART;TZID=America/New_York:20211221T110000
DTEND;TZID=America/New_York:20211221T120000
DESCRIPTION:https://www.w3.org/events/meetings/d7dbd92f-6254-4aa0-be52-534c
 7f5ea7a8/\n\nA regular weekly meeting of the DID WG\, with a time friendly
  for Europe/America.
STATUS:TENTATIVE
CREATED:20211116T212102Z
LAST-MODIFIED:20220105T174352Z
SEQUENCE:1
ORGANIZER;CN=W3C Calendar;PARTSTAT=ACCEPTED;ROLE=NON-PARTICIPANT:mailto:nor
 eply@w3.org
ATTENDEE;CUTYPE=GROUP;ROLE=OPT-PARTICIPANT;RSVP=FALSE;CN=Decentralized Iden
 tifier Working Group:mailto:public-did-wg@w3.org
RRULE:FREQ=MONTHLY;UNTIL=20211221T160000Z;INTERVAL=1;BYDAY=TU;BYSETPOS=3;WK
 ST=MO
RELATED-TO:3152e30b-138c-4b97-b80a-47893bdb970a
END:VEVENT
BEGIN:VEVENT
UID:d7dbd92f-6254-4aa0-be52-534c7f5ea7a8
DTSTAMP:20211210T152701Z
SUMMARY:DID WG Meeting
DTSTART;TZID=America/New_York:20211221T110000
DTEND;TZID=America/New_York:20211221T120000
DESCRIPTION:https://www.w3.org/events/meetings/d7dbd92f-6254-4aa0-be52-534c
 7f5ea7a8/20211221T110000/\n\nA regular weekly meeting of the DID WG\, with
  a time friendly for Europe/America.
STATUS:CANCELLED
CREATED:20211210T152701Z
LAST-MODIFIED:20211210T152701Z
SEQUENCE:1
ORGANIZER;CN=W3C Calendar;PARTSTAT=ACCEPTED;ROLE=NON-PARTICIPANT:mailto:nor
 eply@w3.org
ATTENDEE;CUTYPE=GROUP;ROLE=OPT-PARTICIPANT;RSVP=FALSE;CN=Decentralized Iden
 tifier Working Group:mailto:public-did-wg@w3.org
RECURRENCE-ID;TZID=America/New_York:20211221T110000
END:VEVENT
END:VCALENDAR
