BEGIN:VCALENDAR
VERSION:2.0
PRODID:-//Sabre//Sabre VObject 4.5.8//EN
CALSCALE:GREGORIAN
LAST-MODIFIED:20251112T131310Z
BEGIN:VTIMEZONE
TZID:Asia/Tokyo
X-MICROSOFT-CDO-TZID:20
BEGIN:STANDARD
DTSTART:20241118T044500
TZOFFSETFROM:+0900
TZOFFSETTO:+0900
TZNAME:JST
END:STANDARD
END:VTIMEZONE
BEGIN:VEVENT
UID:312f1ce1-505a-4681-9345-14c970c25911
DTSTAMP:20251112T131310Z
SUMMARY:Accessible Rich Internet Applications WG\, Accessible Platform Arch
 itectures WG joint meeting
DTSTART;TZID=Asia/Tokyo:20251113T134500
DTEND;TZID=Asia/Tokyo:20251113T150000
DESCRIPTION:https://www.w3.org/events/meetings/312f1ce1-505a-4681-9345-14c9
 70c25911/\n\n\n\nAgenda\n\n* Pronunciation\n  - Status (reboot with a focu
 s on user needs\, and specific issues)\n    + [Use Cases](https://w3c.gith
 ub.io/pronunciation/user-scenarios/)\n    + [Explainer](https://w3c.github
 .io/pronunciation/explainer/)\n  - Quick wins: what more can be exposed vi
 a the accessibility tree?\n* Bringing ARIA expertise into horizontal revie
 ws\n  - Yes\, please!\n  - A couple of ways we could co-ordinate this\, ba
 sed on how APA works with other groups.\n\nBackground on accessibility rev
 iews:\n\nSome members of the group attended the [breakout on accessibility
  horizontal review for spec authors](https://www.w3.org/events/meetings/af
 242c02-5463-4aea-9203-7b2616111a6e/). You can check out [the slides](https
 ://raw.githack.com/w3c/apa/main/presentations/2025/TPAC/building-it-in/ind
 ex.html)\, but here are key points\, in the context of this meeting:\n\n* 
 TAG and APA are working on ways to get a 'heads up' on proposals earlier.\
 n* We find a lot of the input we give is to provide use cases and user nee
 ds\, based on our experience\, and resources such as [the Accessibility Us
 er Requirements docs](https://www.w3.org/WAI/research/user-requirements/) 
 and ["Content Usable"](https://www.w3.org/TR/coga-usable/).\n* APA has som
 e CSS expertise\, and access to expertise in some other areas - would be g
 reat to complement this with expertise from ARIA.\n* APA does [longitudina
 l tracking of the accessibility of specs](https://github.com/w3c/a11y-long
 itudinal-tracking/).
STATUS:CONFIRMED
CREATED:20250716T142733Z
LAST-MODIFIED:20251112T131310Z
SEQUENCE:9
ORGANIZER;CN=W3C Calendar;PARTSTAT=ACCEPTED;ROLE=NON-PARTICIPANT:mailto:nor
 eply@w3.org
ATTENDEE;CUTYPE=GROUP;ROLE=OPT-PARTICIPANT;RSVP=FALSE;CN=Accessible Platfor
 m Architectures Working Group:mailto:public-apa@w3.org
ATTENDEE;CUTYPE=GROUP;ROLE=OPT-PARTICIPANT;RSVP=FALSE;CN=Accessible Rich In
 ternet Applications Working Group:mailto:public-aria@w3.org
LOCATION:Floor 4 - 403
CATEGORIES:TPAC 2025,Group Meetings
END:VEVENT
END:VCALENDAR
