BEGIN:VCALENDAR
VERSION:2.0
PRODID:-//Sabre//Sabre VObject 4.5.8//EN
CALSCALE:GREGORIAN
LAST-MODIFIED:20251107T170934Z
BEGIN:VTIMEZONE
TZID:Asia/Tokyo
X-MICROSOFT-CDO-TZID:20
BEGIN:STANDARD
DTSTART:20241115T044500
TZOFFSETFROM:+0900
TZOFFSETTO:+0900
TZNAME:JST
END:STANDARD
END:VTIMEZONE
BEGIN:VEVENT
UID:31046de8-90b7-40f2-9b52-93d2fe0450b5
DTSTAMP:20251107T170934Z
SUMMARY:Accessible Platform Architectures Working Group
DTSTART;TZID=Asia/Tokyo:20251110T134500
DTEND;TZID=Asia/Tokyo:20251110T150000
DESCRIPTION:https://www.w3.org/events/meetings/31046de8-90b7-40f2-9b52-93d2
 fe0450b5/\n\n\n\nAgenda: https://github.com/w3c/apa/issues/356
STATUS:CONFIRMED
CREATED:20250716T142436Z
LAST-MODIFIED:20251107T170934Z
SEQUENCE:10
ORGANIZER;CN=W3C Calendar;PARTSTAT=ACCEPTED;ROLE=NON-PARTICIPANT:mailto:nor
 eply@w3.org
ATTENDEE;CUTYPE=GROUP;ROLE=OPT-PARTICIPANT;RSVP=FALSE;CN=Accessible Platfor
 m Architectures Working Group:mailto:public-apa@w3.org
LOCATION:Floor 5 - 503
CATEGORIES:TPAC 2025,Group Meetings
END:VEVENT
END:VCALENDAR
