BEGIN:VCALENDAR
VERSION:2.0
PRODID:-//Sabre//Sabre VObject 4.5.8//EN
CALSCALE:GREGORIAN
LAST-MODIFIED:20220920T221352Z
BEGIN:VTIMEZONE
TZID:America/New_York
X-MICROSOFT-CDO-TZID:10
BEGIN:STANDARD
DTSTART:20211107T060000
TZOFFSETFROM:-0400
TZOFFSETTO:-0500
TZNAME:EST
END:STANDARD
BEGIN:STANDARD
DTSTART:20221106T060000
TZOFFSETFROM:-0400
TZOFFSETTO:-0500
TZNAME:EST
END:STANDARD
BEGIN:DAYLIGHT
DTSTART:20220313T070000
TZOFFSETFROM:-0500
TZOFFSETTO:-0400
TZNAME:EDT
END:DAYLIGHT
END:VTIMEZONE
BEGIN:VEVENT
UID:3094a419-a55e-4608-aac1-6144804c5201
DTSTAMP:20220920T221352Z
SUMMARY:VCWG Meeting
DTSTART;TZID=America/New_York:20220921T110000
DTEND;TZID=America/New_York:20220921T120000
DESCRIPTION:https://www.w3.org/events/meetings/3094a419-a55e-4608-aac1-6144
 804c5201/20220921T110000/\n\nThe chairs have decided to cancel this meetin
 g to give participants a chance to recover after TPAC.
STATUS:CANCELLED
CREATED:20220920T221351Z
LAST-MODIFIED:20220920T221352Z
SEQUENCE:4
ORGANIZER;CN=W3C Calendar;PARTSTAT=ACCEPTED;ROLE=NON-PARTICIPANT:mailto:nor
 eply@w3.org
ATTENDEE;CUTYPE=GROUP;ROLE=OPT-PARTICIPANT;RSVP=FALSE;CN=Verifiable Credent
 ials Working Group:mailto:public-vc-wg@w3.org
RECURRENCE-ID;TZID=America/New_York:20220921T110000
END:VEVENT
END:VCALENDAR
