BEGIN:VCALENDAR
VERSION:2.0
PRODID:-//Sabre//Sabre VObject 4.5.8//EN
CALSCALE:GREGORIAN
LAST-MODIFIED:20220824T161852Z
BEGIN:VTIMEZONE
TZID:America/New_York
X-MICROSOFT-CDO-TZID:10
BEGIN:STANDARD
DTSTART:20211107T060000
TZOFFSETFROM:-0400
TZOFFSETTO:-0500
TZNAME:EST
END:STANDARD
BEGIN:STANDARD
DTSTART:20221106T060000
TZOFFSETFROM:-0400
TZOFFSETTO:-0500
TZNAME:EST
END:STANDARD
BEGIN:DAYLIGHT
DTSTART:20220313T070000
TZOFFSETFROM:-0500
TZOFFSETTO:-0400
TZNAME:EDT
END:DAYLIGHT
END:VTIMEZONE
BEGIN:VEVENT
UID:3094a419-a55e-4608-aac1-6144804c5201
DTSTAMP:20220824T161852Z
SUMMARY:VCWG Meeting
DTSTART;TZID=America/New_York:20220824T110000
DTEND;TZID=America/New_York:20220824T120000
DESCRIPTION:https://www.w3.org/events/meetings/3094a419-a55e-4608-aac1-6144
 804c5201/20220824T110000/\n\nThe regular meeting for the Verifiable Creden
 tials Working Group.\nMeeting time is friendly for participants in Europe/
 Americas.\n\nAgenda\n\n### Date and Time:\nWednesday 24 Aug 2022\nTime: 11
 :00 AM Boston (60min)\nLocal date/time link: https://www.timeanddate.com/w
 orldclock/fixedtime.html?msg=VCWG+Meeting&iso=20220824T11&p1=43&ah=1\n\n##
 # SPECIAL NOTE\, if any:\n\n\n### Scribe list: \nGNatran\, DmitriZ\, KyleD
 \, RGrant\, Orie\, JAndrieu\, MahmoudA\, DaveL\, MikeJones\, Oliver\, Just
 in\, ScottH\, Joachim\, Logan\, Jeremie\, DavidW\, ShawnB\, RobinB\, ManuS
 \, Orie\, Kevin\, AndrewW\, GabeC\, PhilA\, CharlesL\, Markus\, DavidC\n\n
 ### Meeting Chair:\nKristina Yasuda\n\n### Topics (time)\n1-Agenda Review\
 , Introductions  (5 min)\n2-TPAC [1] (10 min)\n3-Issue Discussion [2] (40 
 min)\n\n#### Links\n[1] https://docs.google.com/spreadsheets/d/1Du-3G4d08O
 WxW1fNtn_8BLNsAIT4GETvk7F7v_Mu_dA/edit#gid=0\n[2] https://github.com/w3c/v
 c-data-model/issues?q=is%3Aissue+is%3Aopen+label%3Adiscuss+sort%3Aupdated-
 asc\n\n### Issues marked pending close:\nAs of the time this email was sen
 t\, the following issues were marked 'pending close':\n\nThere are no pend
 ing close issues\n\nFor an up to date list of the current set of 'pending 
 close' issues\, please see: \nhttps://github.com/w3c/vc-data-model/issues?
 q=is%3Aissue+is%3Aopen+sort%3Aupdated-asc+label%3A%22pending+close%22
STATUS:CONFIRMED
CREATED:20220823T144625Z
LAST-MODIFIED:20220824T161852Z
SEQUENCE:4
ORGANIZER;CN=W3C Calendar;PARTSTAT=ACCEPTED;ROLE=NON-PARTICIPANT:mailto:nor
 eply@w3.org
ATTENDEE;CUTYPE=GROUP;ROLE=OPT-PARTICIPANT;RSVP=FALSE;CN=Verifiable Credent
 ials Working Group:mailto:public-vc-wg@w3.org
RECURRENCE-ID;TZID=America/New_York:20220824T110000
END:VEVENT
END:VCALENDAR
