BEGIN:VCALENDAR
VERSION:2.0
PRODID:-//Sabre//Sabre VObject 4.5.8//EN
CALSCALE:GREGORIAN
LAST-MODIFIED:20220810T162128Z
BEGIN:VTIMEZONE
TZID:America/New_York
X-MICROSOFT-CDO-TZID:10
BEGIN:STANDARD
DTSTART:20211107T060000
TZOFFSETFROM:-0400
TZOFFSETTO:-0500
TZNAME:EST
END:STANDARD
BEGIN:STANDARD
DTSTART:20221106T060000
TZOFFSETFROM:-0400
TZOFFSETTO:-0500
TZNAME:EST
END:STANDARD
BEGIN:DAYLIGHT
DTSTART:20220313T070000
TZOFFSETFROM:-0500
TZOFFSETTO:-0400
TZNAME:EDT
END:DAYLIGHT
END:VTIMEZONE
BEGIN:VEVENT
UID:3094a419-a55e-4608-aac1-6144804c5201
DTSTAMP:20220810T162128Z
SUMMARY:VCWG Meeting
DTSTART;TZID=America/New_York:20220810T110000
DTEND;TZID=America/New_York:20220810T120000
DESCRIPTION:https://www.w3.org/events/meetings/3094a419-a55e-4608-aac1-6144
 804c5201/20220810T110000/\n\nThe regular meeting for the Verifiable Creden
 tials Working Group.\nMeeting time is friendly for participants in Europe/
 Americas.\n\nAgenda\n\n"### Date and Time:\nWednesday 10 Aug 2022\nTime: 1
 1:00 AM Boston (60min)\nLocal date/time link: https://www.timeanddate.com/
 worldclock/fixedtime.html?msg=VCWG+Meeting&iso=20220810T11&p1=43&ah=1\n\n#
 ## SPECIAL NOTE\, if any:\n\n### Scribe list: \nGNatran\, DmitriZ\, KyleD\
 , Markus\, DavidC\, RGrant\, Orie\, JAndrieu\, MahmoudA\, DaveL\, MikeJone
 s\, Oliver\, Justin\, ScottH\, Joachim\, Logan\, Jeremie\, DavidW\, ShawnB
 \, RobinB\, ManuS\, Orie\, Kevin\, AndrewW\, GabeC\, PhilA\, CharlesL\n\n#
 ## Meeting Chair:\nKristina Yasuda\n\n### Topics (time)\n1-Agenda Review\,
  Introductions  (5 min)\n2-Work Mode  (10 min)\n3-TPAC [1] (10 min)\n4-A b
 rief introduction to VC components  (5 min)\n5-VC Data Model Issues - A Qu
 estion of Relevance [2] (25 min)\n\n#### Links\n[1] https://docs.google.co
 m/spreadsheets/d/1Du-3G4d08OWxW1fNtn_8BLNsAIT4GETvk7F7v_Mu_dA/edit#gid=0\n
 [2] https://github.com/w3c/vc-data-model/issues?q=is%3Aissue+is%3Aopen+lab
 el%3Arelevant%3F+sort%3Aupdated-asc\n\n### Issues marked pending close:\nA
 s of the time this email was sent\, the following issues were marked 'pend
 ing close':\n\nThere are no pending close issues\n\nFor an up to date list
  of the current set of 'pending close' issues\, please see: \nhttps://gith
 ub.com/w3c/vc-data-model/issues?q=is%3Aissue+is%3Aopen+sort%3Aupdated-asc+
 label%3A%22pending+close%22"
STATUS:CONFIRMED
CREATED:20220805T154255Z
LAST-MODIFIED:20220810T162128Z
SEQUENCE:4
ORGANIZER;CN=W3C Calendar;PARTSTAT=ACCEPTED;ROLE=NON-PARTICIPANT:mailto:nor
 eply@w3.org
ATTENDEE;CUTYPE=GROUP;ROLE=OPT-PARTICIPANT;RSVP=FALSE;CN=Verifiable Credent
 ials Working Group:mailto:public-vc-wg@w3.org
RECURRENCE-ID;TZID=America/New_York:20220810T110000
END:VEVENT
END:VCALENDAR
