BEGIN:VCALENDAR
VERSION:2.0
PRODID:-//Sabre//Sabre VObject 4.5.8//EN
CALSCALE:GREGORIAN
LAST-MODIFIED:20220727T163142Z
BEGIN:VTIMEZONE
TZID:America/New_York
X-MICROSOFT-CDO-TZID:10
BEGIN:STANDARD
DTSTART:20211107T060000
TZOFFSETFROM:-0400
TZOFFSETTO:-0500
TZNAME:EST
END:STANDARD
BEGIN:STANDARD
DTSTART:20221106T060000
TZOFFSETFROM:-0400
TZOFFSETTO:-0500
TZNAME:EST
END:STANDARD
BEGIN:DAYLIGHT
DTSTART:20220313T070000
TZOFFSETFROM:-0500
TZOFFSETTO:-0400
TZNAME:EDT
END:DAYLIGHT
END:VTIMEZONE
BEGIN:VEVENT
UID:3094a419-a55e-4608-aac1-6144804c5201
DTSTAMP:20220727T163142Z
SUMMARY:VCWG Meeting
DTSTART;TZID=America/New_York:20220727T110000
DTEND;TZID=America/New_York:20220727T120000
DESCRIPTION:https://www.w3.org/events/meetings/3094a419-a55e-4608-aac1-6144
 804c5201/20220727T110000/\n\nThe regular meeting for the Verifiable Creden
 tials Working Group.\nMeeting time is friendly for participants in Europe/
 Americas.\n\nAgenda\n\n### Topics (time)\n\n1-Agenda Review\, Introduction
 s  (5 min)\n2-Participation renewal  (5 min)\n3-W3C Publishing crash cours
 e  (10 min)\n4-Deliverable timelines  (5 min)\n5-Relationship betwen input
  documents and work items  (10 min)\n6-vc-data model issue [1] (20 min)\n\
 n#### Links\n\n[1] https://github.com/w3c/vc-data-model/issues?q=is%3Aissu
 e+is%3Aopen+sort%3Aupdated-asc
STATUS:CONFIRMED
CREATED:20220727T145317Z
LAST-MODIFIED:20220727T163142Z
SEQUENCE:4
ORGANIZER;CN=W3C Calendar;PARTSTAT=ACCEPTED;ROLE=NON-PARTICIPANT:mailto:nor
 eply@w3.org
ATTENDEE;CUTYPE=GROUP;ROLE=OPT-PARTICIPANT;RSVP=FALSE;CN=Verifiable Credent
 ials Working Group:mailto:public-vc-wg@w3.org
RECURRENCE-ID;TZID=America/New_York:20220727T110000
END:VEVENT
END:VCALENDAR
