BEGIN:VCALENDAR
VERSION:2.0
PRODID:-//Sabre//Sabre VObject 4.5.8//EN
CALSCALE:GREGORIAN
LAST-MODIFIED:20220914T145243Z
BEGIN:VTIMEZONE
TZID:America/Vancouver
BEGIN:STANDARD
DTSTART:20211107T090000
TZOFFSETFROM:-0700
TZOFFSETTO:-0800
TZNAME:PST
END:STANDARD
BEGIN:STANDARD
DTSTART:20221106T090000
TZOFFSETFROM:-0700
TZOFFSETTO:-0800
TZNAME:PST
END:STANDARD
BEGIN:DAYLIGHT
DTSTART:20220313T100000
TZOFFSETFROM:-0800
TZOFFSETTO:-0700
TZNAME:PDT
END:DAYLIGHT
END:VTIMEZONE
BEGIN:VEVENT
UID:2f1bb21d-1d51-4528-9729-9da2bc611176
DTSTAMP:20220914T145243Z
SUMMARY:Web Components Community Group API and Specs Report 2022
DTSTART;TZID=America/Vancouver:20220914T163000
DTEND;TZID=America/Vancouver:20220914T173000
DESCRIPTION:https://www.w3.org/events/meetings/2f1bb21d-1d51-4528-9729-9da2
 bc611176/\n\nThe Web Components CG will facilitate a discussion with imple
 menters and community members about filling browser gaps in agreed upon fe
 atures and moving forward with the next wave of top priority features.\n\n
 Agenda\n\n**Facilitators & speakers**: Westbrook Johnson\, Owen Buckley\, 
 Rob Eisenberg\n\n**Session type**: open discussion\n\n**Summary**: The Web
  Components CG will facilitate a discussion with implementers and communit
 y members about filling browser gaps in agreed upon features and moving fo
 rward with the next wave of top priority features.\n\n**Goals**:\n- Gettin
 g APIs missing full x-browser support into the “Interop 2023” campaign
 ?\n- Discuss how we can work more closely on high important capabilities: 
 cross shadow root Aria\, scoped registries\, DSD\n- Expand implementer and
  developer partnerships around bringing APIs & specs to the browser.\n\nJo
 ining Instructions: https://us02web.zoom.us/j/3461096425?pwd=OUN6UkducnIxS
 mplWG9jNXdPSkZTUT09\n\nChat\n\nhttps://irc.w3.org/?channels=%23webcomponen
 t-cg
STATUS:CONFIRMED
CREATED:20220909T111714Z
LAST-MODIFIED:20220914T145243Z
SEQUENCE:1
ORGANIZER;CN=W3C Calendar;PARTSTAT=ACCEPTED;ROLE=NON-PARTICIPANT:mailto:nor
 eply@w3.org
ATTENDEE;CN=Martin Alvarez-Espinar:mailto:martin.alvarez.espinar1@huawei.co
 m
ATTENDEE;CN=Matthew Atkinson:mailto:m.atkinson@samsung.com
ATTENDEE;CN=Leonardo Balter:mailto:leobalter@salesforce.com
ATTENDEE;CN=Owen Buckley:mailto:owenbuckley13@gmail.com
ATTENDEE;CN=Domenic Denicola:mailto:d@domenic.me
ATTENDEE;CN=Rob Eisenberg:mailto:rob@bluespire.com
ATTENDEE;CN=Theresa O'Connor:mailto:hober@apple.com
ATTENDEE;CN=Cynthia Shelly:mailto:buphie@gmail.com
ATTENDEE;CN=Miriam Suzanne:mailto:miriam@oddbird.net
ATTENDEE;CN=Jeff Waters:mailto:jeff.waters@navy.mil
LOCATION:Junior A — North Tower 3rd floor
CATEGORIES:TPAC 2022,Breakout Sessions
END:VEVENT
END:VCALENDAR
