BEGIN:VCALENDAR
VERSION:2.0
PRODID:-//Sabre//Sabre VObject 4.5.8//EN
CALSCALE:GREGORIAN
LAST-MODIFIED:20240923T230205Z
BEGIN:VTIMEZONE
TZID:America/Los_Angeles
X-MICROSOFT-CDO-TZID:13
BEGIN:STANDARD
DTSTART:20231105T090000
TZOFFSETFROM:-0700
TZOFFSETTO:-0800
TZNAME:PST
END:STANDARD
BEGIN:STANDARD
DTSTART:20241103T090000
TZOFFSETFROM:-0700
TZOFFSETTO:-0800
TZNAME:PST
END:STANDARD
BEGIN:DAYLIGHT
DTSTART:20240310T100000
TZOFFSETFROM:-0800
TZOFFSETTO:-0700
TZNAME:PDT
END:DAYLIGHT
END:VTIMEZONE
BEGIN:VEVENT
UID:2ef1efa3-3d0d-4a7b-8202-5d5c11657733
DTSTAMP:20240923T230205Z
SUMMARY:Web Applications Working Group
DTSTART;TZID=America/Los_Angeles:20240923T090000
DTEND;TZID=America/Los_Angeles:20240923T180000
DESCRIPTION:https://www.w3.org/events/meetings/2ef1efa3-3d0d-4a7b-8202-5d5c
 11657733/\n\n\n\nAgenda: https://github.com/w3c/webappswg/wiki/TPAC-2024
STATUS:CONFIRMED
CREATED:20240614T161705Z
LAST-MODIFIED:20240923T230205Z
SEQUENCE:7
ORGANIZER;CN=W3C Calendar;PARTSTAT=ACCEPTED;ROLE=NON-PARTICIPANT:mailto:nor
 eply@w3.org
ATTENDEE;CUTYPE=GROUP;ROLE=OPT-PARTICIPANT;RSVP=FALSE;CN=Web Applications W
 orking Group:mailto:public-webapps@w3.org
LOCATION:4 Concourse Level - Laguna
CATEGORIES:TPAC 2024,Group Meetings
END:VEVENT
END:VCALENDAR
