BEGIN:VCALENDAR
VERSION:2.0
PRODID:-//Sabre//Sabre VObject 4.5.8//EN
CALSCALE:GREGORIAN
LAST-MODIFIED:20220803T083447Z
BEGIN:VTIMEZONE
TZID:Etc/UTC
BEGIN:STANDARD
DTSTART:20210814T070000
TZOFFSETFROM:+0000
TZOFFSETTO:+0000
TZNAME:UTC
END:STANDARD
END:VTIMEZONE
BEGIN:VEVENT
UID:2edc283b-7635-4283-b8ca-35afb067392b
DTSTAMP:20220803T083447Z
SUMMARY:WebView Community Group Sync
DTSTART;TZID=Etc/UTC:20220809T070000
DTEND;TZID=Etc/UTC:20220809T080000
DESCRIPTION:https://www.w3.org/events/meetings/2edc283b-7635-4283-b8ca-35af
 b067392b/\n\nSeventh teleconference of the WebView Community Group\, which
  aims to identify\, understand and reduce the issues arising from the use 
 of WebViews to render Web technology-based content outside of a Web browse
 r (Native Apps\, MiniApps\, etc).\n\nThe meeting will primarily focus on d
 iscussing the use cases submitted by the community.\n\nAgenda: https://git
 hub.com/WebView-CG/usage-and-challenges/blob/main/meetings/7th-meeting-age
 nda-220809.md\n\nAgenda\n\n# Seventh meeting agenda (2022-08-09)\n\n * Rev
 iew and discuss use cases\, https://github.com/WebView-CG/usage-and-challe
 nges/issues?q=is%3Aissue+is%3Aopen+label%3AAgenda%2B\n * Review other issu
 es\, https://github.com/WebView-CG/usage-and-challenges/issues
STATUS:CONFIRMED
CREATED:20220802T143530Z
LAST-MODIFIED:20220803T083447Z
SEQUENCE:1
ORGANIZER;CN=W3C Calendar;PARTSTAT=ACCEPTED;ROLE=NON-PARTICIPANT:mailto:nor
 eply@w3.org
ATTENDEE;CUTYPE=GROUP;ROLE=OPT-PARTICIPANT;RSVP=FALSE;CN=WebView Community 
 Group:mailto:public-webview@w3.org
END:VEVENT
END:VCALENDAR
