BEGIN:VCALENDAR
VERSION:2.0
PRODID:-//Sabre//Sabre VObject 4.5.8//EN
CALSCALE:GREGORIAN
LAST-MODIFIED:20211012T194544Z
BEGIN:VTIMEZONE
TZID:Etc/UTC
BEGIN:STANDARD
DTSTART:20201103T150000
TZOFFSETFROM:+0000
TZOFFSETTO:+0000
TZNAME:UTC
END:STANDARD
END:VTIMEZONE
BEGIN:VEVENT
UID:2e719bc5-d003-4de3-ae3c-d525b0994123
DTSTAMP:20211012T194544Z
SUMMARY:OGC GeoPose SWG & IW meeting
DTSTART;TZID=Etc/UTC:20211029T150000
DTEND;TZID=Etc/UTC:20211029T160000
DESCRIPTION:https://www.w3.org/events/meetings/2e719bc5-d003-4de3-ae3c-d525
 b0994123/\n\nAs part of the TPAC meetings we would like to have a joint me
 eting with GeoPose Standards group and Immersive Web Community group. We w
 ill add the meeting details closer to the event. Feel free to add issues t
 o https://github.com/immersive-web/geo-alignment repo.\n\nSome useful link
 s for discussion. \nGeoPose repo https://github.com/opengeospatial/GeoPose
 \nhttps://github.com/opengeospatial/GeoPose/blob/main/standard/pdf/geopose
 _standard.pdf\n\nThanks!\nAysegul
STATUS:TENTATIVE
CREATED:20211012T194543Z
LAST-MODIFIED:20211012T194544Z
SEQUENCE:0
ORGANIZER;CN=W3C Calendar;PARTSTAT=ACCEPTED;ROLE=NON-PARTICIPANT:mailto:nor
 eply@w3.org
ATTENDEE;CUTYPE=GROUP;ROLE=OPT-PARTICIPANT;RSVP=FALSE;CN=Immersive Web Work
 ing Group:mailto:public-immersive-web-wg@w3.org
END:VEVENT
END:VCALENDAR
