BEGIN:VCALENDAR
VERSION:2.0
PRODID:-//Sabre//Sabre VObject 4.5.8//EN
CALSCALE:GREGORIAN
LAST-MODIFIED:20260218T183713Z
BEGIN:VTIMEZONE
TZID:Asia/Tokyo
X-MICROSOFT-CDO-TZID:20
BEGIN:STANDARD
DTSTART:20241117T083000
TZOFFSETFROM:+0900
TZOFFSETTO:+0900
TZNAME:JST
END:STANDARD
END:VTIMEZONE
BEGIN:VEVENT
UID:2d4dd8b1-76dc-4dba-8b1d-5986cb27b6dd
DTSTAMP:20260218T183713Z
SUMMARY:Accessibility Compat Data Update
DTSTART;TZID=Asia/Tokyo:20251112T173000
DTEND;TZID=Asia/Tokyo:20251112T183000
DESCRIPTION:https://www.w3.org/events/meetings/2d4dd8b1-76dc-4dba-8b1d-5986
 cb27b6dd/\n\nA group of us have been working on the Accessibility Compat D
 ata project\, with the goal of creating a machine-readable dataset that tr
 acks the interoperability of web features across browsers and screen reade
 rs\, and integrating that dataset into existing developer resources like M
 DN. We've had support from Mozilla\, The A11Y Project\, the Web DX CG\, Op
 en Web Docs\, WPT and more. Whether it's your first time hearing about thi
 s work\, or you've been tracking the work\, this is an opportunity to be u
 pdated on what we've been doing.\n\nThe ARIA WG will be discussing a numbe
 r of accessibility interoperability initiatives\, including ACD\, however 
 if you're not part of the ARIA WG or can't make that session and want to b
 e clued into this specific work\, this is the session for you.\n\n**Goal(s
 ):**\nProvide update on progress of Accessibility Compat Data\n\nAgenda\n\
 n**Materials:**\n- [Session proposal on GitHub](https://github.com/w3c/tpa
 c2025-breakouts/issues/27)
STATUS:CONFIRMED
CREATED:20251028T073704Z
LAST-MODIFIED:20260218T183713Z
SEQUENCE:4
ORGANIZER;CN=W3C Calendar;PARTSTAT=ACCEPTED;ROLE=NON-PARTICIPANT:mailto:nor
 eply@w3.org
LOCATION:Floor 3 - 302
CATEGORIES:TPAC 2025,Breakout Sessions
END:VEVENT
END:VCALENDAR
