BEGIN:VCALENDAR
VERSION:2.0
PRODID:-//Sabre//Sabre VObject 4.5.8//EN
CALSCALE:GREGORIAN
LAST-MODIFIED:20230424T065114Z
BEGIN:VTIMEZONE
TZID:Etc/UTC
BEGIN:STANDARD
DTSTART:20220423T150000
TZOFFSETFROM:+0000
TZOFFSETTO:+0000
TZNAME:UTC
END:STANDARD
END:VTIMEZONE
BEGIN:VEVENT
UID:2c5d85a0-c30d-4f61-8150-af1cc3536e26
DTSTAMP:20230424T065114Z
SUMMARY:WebRTC WG April 2023 call
DTSTART;TZID=Etc/UTC:20230418T150000
DTEND;TZID=Etc/UTC:20230418T170000
DESCRIPTION:https://www.w3.org/events/meetings/2c5d85a0-c30d-4f61-8150-af1c
 c3536e26/\n\n\n\nAgenda: https://www.w3.org/2011/04/webrtc/wiki/April_18_2
 023
STATUS:TENTATIVE
CREATED:20230103T080931Z
LAST-MODIFIED:20230424T065114Z
SEQUENCE:0
ORGANIZER;CN=W3C Calendar;PARTSTAT=ACCEPTED;ROLE=NON-PARTICIPANT:mailto:nor
 eply@w3.org
ATTENDEE;CUTYPE=GROUP;ROLE=OPT-PARTICIPANT;RSVP=FALSE;CN=Web Real-Time Comm
 unications Working Group:mailto:public-webrtc@w3.org
END:VEVENT
END:VCALENDAR
