BEGIN:VCALENDAR
VERSION:2.0
PRODID:-//Sabre//Sabre VObject 4.5.8//EN
CALSCALE:GREGORIAN
LAST-MODIFIED:20231219T085719Z
BEGIN:VTIMEZONE
TZID:Etc/UTC
BEGIN:STANDARD
DTSTART:20221220T160000
TZOFFSETFROM:+0000
TZOFFSETTO:+0000
TZNAME:UTC
END:STANDARD
END:VTIMEZONE
BEGIN:VEVENT
UID:2bca9dc9-5e28-419e-8dc3-1c6eb9d9f354
DTSTAMP:20231219T085719Z
SUMMARY:WebView Community Group introduction new chairs and discussion for 
 upcoming activities
DTSTART;TZID=Etc/UTC:20231215T160000
DTEND;TZID=Etc/UTC:20231215T170000
DESCRIPTION:https://www.w3.org/events/meetings/2bca9dc9-5e28-419e-8dc3-1c6e
 b9d9f354/\n\nNiklas and Ben here. We wanted to introduce ourselves as the 
 new co-chairs for the WebView CG. We’re really excited to pick up on the
  great work from the chairs before us.\n\nAgenda\n\n* Elect keeper of meet
 ing minutes\n* Round of introductions\n* Discuss where the group got to pr
 eviously\n* Discuss group ambitions for 2024\n* Discuss charter\n* Discuss
  time & interval for next meeting
STATUS:CONFIRMED
CREATED:20231124T110025Z
LAST-MODIFIED:20231219T085719Z
SEQUENCE:2
ORGANIZER;CN=W3C Calendar;PARTSTAT=ACCEPTED;ROLE=NON-PARTICIPANT:mailto:nor
 eply@w3.org
ATTENDEE;CUTYPE=GROUP;ROLE=OPT-PARTICIPANT;RSVP=FALSE;CN=WebView Community 
 Group:mailto:public-webview@w3.org
END:VEVENT
END:VCALENDAR
