BEGIN:VCALENDAR
VERSION:2.0
PRODID:-//Sabre//Sabre VObject 4.5.8//EN
CALSCALE:GREGORIAN
LAST-MODIFIED:20221214T172919Z
BEGIN:VTIMEZONE
TZID:America/New_York
X-MICROSOFT-CDO-TZID:10
BEGIN:DAYLIGHT
DTSTART:20220313T070000
TZOFFSETFROM:-0500
TZOFFSETTO:-0400
TZNAME:EDT
END:DAYLIGHT
BEGIN:DAYLIGHT
DTSTART:20230312T070000
TZOFFSETFROM:-0500
TZOFFSETTO:-0400
TZNAME:EDT
END:DAYLIGHT
BEGIN:STANDARD
DTSTART:20221106T060000
TZOFFSETFROM:-0400
TZOFFSETTO:-0500
TZNAME:EST
END:STANDARD
END:VTIMEZONE
BEGIN:VEVENT
UID:2b92a902-1365-4ea0-8c68-9f8ae2106fe3
DTSTAMP:20221214T172919Z
SUMMARY:ARIA Working Group weekly meeting
DTSTART;TZID=America/New_York:20221215T130000
DTEND;TZID=America/New_York:20221215T140000
DESCRIPTION:https://www.w3.org/events/meetings/2b92a902-1365-4ea0-8c68-9f8a
 e2106fe3/20221215T130000/\n\n\n\nAgenda\n\n* [New Issue Triage](https://bi
 t.ly/3YqB9YL)\n* [New PR Triage](https://bit.ly/3Yq0OAu)\n* [Last Meeting 
 of the year - Deep Dive planning for the new year?](https://bit.ly/aria-me
 aty-topic-candidates)\n* GH Summary email\n* [ARIA ACT Rules review - remi
 nder to review](https://github.com/w3c/aria/issues/1847)\n* [AccName Role 
 Traversal Proposal - any updates?](https://github.com/w3c/aria/issues/1821
 )\n* [Better aria-expanded defaults for combobox](https://github.com/w3c/a
 ria/issues/1177)\n* [aria-haspopup at button should not change role](https
 ://github.com/w3c/core-aam/issues/51 & https://github.com/w3c/core-aam/pul
 l/153)\n* [1.3 blocking issues](https://github.com/w3c/aria/issues?q=is%3A
 open+is%3Aissue+milestone%3A%22ARIA+1.3%22+sort%3Acreated-asc+label%3A1.3-
 Blocking+)
STATUS:CONFIRMED
CREATED:20221206T183604Z
LAST-MODIFIED:20221214T172919Z
SEQUENCE:2
ORGANIZER;CN=W3C Calendar;PARTSTAT=ACCEPTED;ROLE=NON-PARTICIPANT:mailto:nor
 eply@w3.org
ATTENDEE;CUTYPE=GROUP;ROLE=OPT-PARTICIPANT;RSVP=FALSE;CN=Accessible Rich In
 ternet Applications Working Group:mailto:public-aria@w3.org
RECURRENCE-ID;TZID=America/New_York:20221215T130000
END:VEVENT
END:VCALENDAR
