BEGIN:VCALENDAR
VERSION:2.0
PRODID:-//Sabre//Sabre VObject 4.5.8//EN
CALSCALE:GREGORIAN
LAST-MODIFIED:20220531T175108Z
BEGIN:VTIMEZONE
TZID:America/New_York
X-MICROSOFT-CDO-TZID:10
BEGIN:STANDARD
DTSTART:20211107T060000
TZOFFSETFROM:-0400
TZOFFSETTO:-0500
TZNAME:EST
END:STANDARD
BEGIN:STANDARD
DTSTART:20221106T060000
TZOFFSETFROM:-0400
TZOFFSETTO:-0500
TZNAME:EST
END:STANDARD
BEGIN:DAYLIGHT
DTSTART:20220313T070000
TZOFFSETFROM:-0500
TZOFFSETTO:-0400
TZNAME:EDT
END:DAYLIGHT
END:VTIMEZONE
BEGIN:VEVENT
UID:2b92a902-1365-4ea0-8c68-9f8ae2106fe3
DTSTAMP:20220531T175108Z
SUMMARY:ARIA Working Group weekly meeting
DTSTART;TZID=America/New_York:20220602T130000
DTEND;TZID=America/New_York:20220602T140000
DESCRIPTION:https://www.w3.org/events/meetings/2b92a902-1365-4ea0-8c68-9f8a
 e2106fe3/20220602T130000/\n\n\n\nAgenda\n\n* [New Issue Triage](https://bi
 t.ly/3PPSMg9)\n* [New PR Triage](https://bit.ly/3lZHLv3)\n* [Deep Dive pla
 nning](https://bit.ly/aria-meaty-topic-candidates)\n* [ARIA interaction wi
 th MathML](https://github.com/w3c/aria/issues/1723)\n* [Consider adding a 
 'decorative image' role](https://github.com/w3c/aria/issues/1746)\n* [Does
  aria-hidden obey DOM or AX tree ancestors?](https://github.com/w3c/aria/i
 ssues/1714)\n* [1.3 triage](https://github.com/w3c/aria/issues?q=is%3Aopen
 +is%3Aissue+milestone%3A%22ARIA+1.3%22+sort%3Acreated-asc+no%3Aassignee)
STATUS:CONFIRMED
CREATED:20220531T175107Z
LAST-MODIFIED:20220531T175108Z
SEQUENCE:2
ORGANIZER;CN=W3C Calendar;PARTSTAT=ACCEPTED;ROLE=NON-PARTICIPANT:mailto:nor
 eply@w3.org
ATTENDEE;CUTYPE=GROUP;ROLE=OPT-PARTICIPANT;RSVP=FALSE;CN=Accessible Rich In
 ternet Applications Working Group:mailto:public-aria@w3.org
RECURRENCE-ID;TZID=America/New_York:20220602T130000
END:VEVENT
END:VCALENDAR
