BEGIN:VCALENDAR
VERSION:2.0
PRODID:-//Sabre//Sabre VObject 4.5.8//EN
CALSCALE:GREGORIAN
LAST-MODIFIED:20220321T233113Z
BEGIN:VTIMEZONE
TZID:America/New_York
X-MICROSOFT-CDO-TZID:10
BEGIN:STANDARD
DTSTART:20211107T060000
TZOFFSETFROM:-0400
TZOFFSETTO:-0500
TZNAME:EST
END:STANDARD
BEGIN:STANDARD
DTSTART:20221106T060000
TZOFFSETFROM:-0400
TZOFFSETTO:-0500
TZNAME:EST
END:STANDARD
BEGIN:DAYLIGHT
DTSTART:20220313T070000
TZOFFSETFROM:-0500
TZOFFSETTO:-0400
TZNAME:EDT
END:DAYLIGHT
END:VTIMEZONE
BEGIN:VEVENT
UID:2b92a902-1365-4ea0-8c68-9f8ae2106fe3
DTSTAMP:20220321T233113Z
SUMMARY:ARIA Working Group weekly meeting
DTSTART;TZID=America/New_York:20220324T130000
DTEND;TZID=America/New_York:20220324T140000
DESCRIPTION:https://www.w3.org/events/meetings/2b92a902-1365-4ea0-8c68-9f8a
 e2106fe3/20220324T130000/\n\n\n\nAgenda\n\n### Standing Issues\n* [New Iss
 ue Triage](https://bit.ly/3ud44RL)\n* [New PR Triage](https://bit.ly/3CZNJ
 6G)\n* [Deep Dive planning](https://bit.ly/aria-meaty-topic-candidates)\n#
 ## Major Topics\n* [tracking issue for <dialog> & role=dialog](https://git
 hub.com/w3c/aria/issues/1708)\n* [When is hidden content taken into calcul
 ation of name and description?](https://github.com/w3c/accname/issues/57) 
 & [PR](https://github.com/w3c/accname/pull/150)
STATUS:CONFIRMED
CREATED:20220321T190411Z
LAST-MODIFIED:20220321T233113Z
SEQUENCE:2
ORGANIZER;CN=W3C Calendar;PARTSTAT=ACCEPTED;ROLE=NON-PARTICIPANT:mailto:nor
 eply@w3.org
ATTENDEE;CUTYPE=GROUP;ROLE=OPT-PARTICIPANT;RSVP=FALSE;CN=Accessible Rich In
 ternet Applications Working Group:mailto:public-aria@w3.org
RECURRENCE-ID;TZID=America/New_York:20220324T130000
END:VEVENT
END:VCALENDAR
