BEGIN:VCALENDAR
VERSION:2.0
PRODID:-//Sabre//Sabre VObject 4.5.8//EN
CALSCALE:GREGORIAN
LAST-MODIFIED:20250123T164223Z
BEGIN:VTIMEZONE
TZID:America/New_York
X-MICROSOFT-CDO-TZID:10
BEGIN:DAYLIGHT
DTSTART:20240310T070000
TZOFFSETFROM:-0500
TZOFFSETTO:-0400
TZNAME:EDT
END:DAYLIGHT
BEGIN:DAYLIGHT
DTSTART:20250309T070000
TZOFFSETFROM:-0500
TZOFFSETTO:-0400
TZNAME:EDT
END:DAYLIGHT
BEGIN:STANDARD
DTSTART:20241103T060000
TZOFFSETFROM:-0400
TZOFFSETTO:-0500
TZNAME:EST
END:STANDARD
END:VTIMEZONE
BEGIN:VEVENT
UID:2b57854a-65cb-421e-b9e0-f9a8da31f160
DTSTAMP:20250123T164223Z
SUMMARY:ARIA Working Group weekly meeting
DTSTART;TZID=America/New_York:20250123T130000
DTEND;TZID=America/New_York:20250123T140000
DESCRIPTION:https://www.w3.org/events/meetings/2b57854a-65cb-421e-b9e0-f9a8
 da31f160/20250123T130000/\n\n\n\nAgenda\n\n* [New Issue Triage](https://ti
 nyurl.com/f6fhu4bv)\n* [New PR Triage](https://github.com/search?l=&q=is%3
 Aopen+is%3Apr+created%3A%3E%3D2025-01-16+repo%3Aw3c%2Faria&type=Issues)\n*
  [WPT Open PRs](https://bit.ly/wpt_a11y)\n* [Deep Dive planning](https://b
 it.ly/aria-meaty-topic-candidates)\n\n* [[AriaNotify] Naming for the prior
 ity property](https://github.com/w3c/aria/issues/2333)\n* [Consider ariaNo
 tify being named a more general accessibility notification in HTML/DOM rat
 her than an ARIA-specific mixin in the ARIA spec](https://github.com/w3c/a
 ria/issues/2399 )\n* [Tentative: update point E. Host Language Label of th
 e Acc Name algorithm](https://github.com/w3c/aria/pull/2405)\n* [Should th
 e 'row' role really be necessary for parents of 'gridcell' and other cell 
 role elements?](https://github.com/w3c/aria/issues/2402)\n* [[accname] Exp
 licitly state UAs must ignore “aria-label” for slots](https://github.c
 om/w3c/aria/pull/2385)
STATUS:CONFIRMED
CREATED:20250121T181656Z
LAST-MODIFIED:20250123T164223Z
SEQUENCE:6
ORGANIZER;CN=W3C Calendar;PARTSTAT=ACCEPTED;ROLE=NON-PARTICIPANT:mailto:nor
 eply@w3.org
ATTENDEE;CUTYPE=GROUP;ROLE=OPT-PARTICIPANT;RSVP=FALSE;CN=Accessible Rich In
 ternet Applications Working Group:mailto:public-aria@w3.org
RECURRENCE-ID;TZID=America/New_York:20250123T130000
END:VEVENT
END:VCALENDAR
