BEGIN:VCALENDAR
VERSION:2.0
PRODID:-//Sabre//Sabre VObject 4.5.8//EN
CALSCALE:GREGORIAN
LAST-MODIFIED:20260403T135923Z
BEGIN:VTIMEZONE
TZID:Etc/UTC
BEGIN:STANDARD
DTSTART:20250408T140000
TZOFFSETFROM:+0000
TZOFFSETTO:+0000
TZNAME:UTC
END:STANDARD
END:VTIMEZONE
BEGIN:VEVENT
UID:2b410141-38ad-4ec2-b3f4-179e741c0026
DTSTAMP:20260403T135923Z
SUMMARY:WebView CG Meeting
DTSTART;TZID=Etc/UTC:20260403T140000
DTEND;TZID=Etc/UTC:20260403T150000
DESCRIPTION:https://www.w3.org/events/meetings/2b410141-38ad-4ec2-b3f4-179e
 741c0026/\n\n\n\nAgenda: https://bit.ly/webview-cg-2603\n\nAgenda\n\n* New
 s from the ETSI standard for CRA\n* New WebViews on CanIWebView\n* Breakou
 ts & MiniApps collaboration
STATUS:CONFIRMED
CREATED:20260308T214600Z
LAST-MODIFIED:20260403T135923Z
SEQUENCE:2
ORGANIZER;CN=W3C Calendar;PARTSTAT=ACCEPTED;ROLE=NON-PARTICIPANT:mailto:nor
 eply@w3.org
ATTENDEE;CUTYPE=GROUP;ROLE=OPT-PARTICIPANT;RSVP=FALSE;CN=WebView Community 
 Group:mailto:public-webview@w3.org
END:VEVENT
END:VCALENDAR
