BEGIN:VCALENDAR
VERSION:2.0
PRODID:-//Sabre//Sabre VObject 4.5.8//EN
CALSCALE:GREGORIAN
LAST-MODIFIED:20221107T170749Z
BEGIN:VTIMEZONE
TZID:Europe/London
X-MICROSOFT-CDO-TZID:1
BEGIN:DAYLIGHT
DTSTART:20220327T010000
TZOFFSETFROM:+0000
TZOFFSETTO:+0100
TZNAME:BST
END:DAYLIGHT
BEGIN:DAYLIGHT
DTSTART:20230326T010000
TZOFFSETFROM:+0000
TZOFFSETTO:+0100
TZNAME:BST
END:DAYLIGHT
BEGIN:STANDARD
DTSTART:20221030T010000
TZOFFSETFROM:+0100
TZOFFSETTO:+0000
TZNAME:GMT
END:STANDARD
END:VTIMEZONE
BEGIN:VEVENT
UID:2ab4a7ce-6975-437b-a84e-43bce40896c8
DTSTAMP:20221107T170749Z
SUMMARY:W3C Internationalization Working Group Teleconference
DTSTART;TZID=Europe/London:20221110T150000
DTEND;TZID=Europe/London:20221110T160000
DESCRIPTION:https://www.w3.org/events/meetings/2ab4a7ce-6975-437b-a84e-43bc
 e40896c8/20221110T150000/\n\n**Note well** This meeting is scheduled in th
 e `Europe/London` time zone. Regions that do not observe daylight savings/
 summer time or which are located in the southern hemisphere may observe th
 is meeting at a different time of day. Please check your local time carefu
 lly.\n\nAgenda\n\n#### Pending Issue Review\nhttps://github.com/w3c/i18n-a
 ctivity/issues?q=is%3Aissue+is%3Aopen+label%3Apending\n\n#### CSS Prep (if
  needed)\nhttps://github.com/w3c/i18n-activity/issues?q=is%3Aissue+is%3Aop
 en+css+label%3Aneeds-resolution\nhttps://github.com/w3c/i18n-activity/issu
 es?q=is%3Aissue+is%3Aopen+css+label%3Atracker\nhttps://lists.w3.org/Archiv
 es/Public/public-i18n-core/2022OctDec/0050.html\n\n#### String-Meta "bag o
 f octets"\nhttps://github.com/w3c/string-meta/pull/75\n\n### Specdev strin
 g usage recommendations\nhttps://github.com/w3c/bp-i18n-specdev/pull/82\n\
 n---\n\n### BE PREPARED \n\nGlance at:\n* https://github.com/w3c/bp-i18n-s
 pecdev/pull/82\n* https://github.com/w3c/string-meta/pull/75\n\n\n### REMI
 NDER \n\nGetting too many of these notifications? Read [this](https://list
 s.w3.org/Archives/Member/member-i18n-core/2022Mar/0013.html) email from Ri
 chard on how to manage notifications.\n\n### SCRIBE \n\nIf you are set to 
 scribe and cannot make it\, please send regrets to the chair. Volunteers t
 o act as scribe cheerfully accepted.\n\nAtsushi *\nFelix [2022-10-20]\nBer
 t [2022-10-27]\nFuqiao [2022-11-03]\n\n### MEETING INFO\n\nhttps://www.w3.
 org/2017/09/i18n-meeting-info.html (Member Only Link)\n\n### AGENDA (for a
 gendabot)\n\nTopic: Agenda Review\nTopic: Action Items\nTopic: Info Share\
 nTopic: RADAR Review\nTopic: Pending Issue Review\nTopic: CSS Prep (if nee
 ded)\nTopic: String-Meta "bag of octets" PR\nTopic: Specdev string usage r
 ecommendations\nTopic: AOB?\n\n### Chair's Link Farm\nhttps://www.w3.org/I
 nternational/track/actions/open\nhttps://github.com/w3c/i18n-request/proje
 cts/1\nhttps://github.com/w3c/i18n-activity/issues?q=is%3Aissue+is%3Aopen+
 label%3Apending
STATUS:CONFIRMED
CREATED:20221107T170720Z
LAST-MODIFIED:20221107T170749Z
SEQUENCE:6
ORGANIZER;CN=W3C Calendar;PARTSTAT=ACCEPTED;ROLE=NON-PARTICIPANT:mailto:nor
 eply@w3.org
ATTENDEE;CUTYPE=GROUP;ROLE=OPT-PARTICIPANT;RSVP=FALSE;CN=Internationalizati
 on Working Group:mailto:public-i18n-core@w3.org
LOCATION:Location: https://www.w3.org/2017/09/i18n-meeting-info.html
RECURRENCE-ID;TZID=Europe/London:20221110T150000
END:VEVENT
END:VCALENDAR
