BEGIN:VCALENDAR
VERSION:2.0
PRODID:-//Sabre//Sabre VObject 4.5.8//EN
CALSCALE:GREGORIAN
LAST-MODIFIED:20221102T234628Z
BEGIN:VTIMEZONE
TZID:Europe/London
X-MICROSOFT-CDO-TZID:1
BEGIN:DAYLIGHT
DTSTART:20220327T010000
TZOFFSETFROM:+0000
TZOFFSETTO:+0100
TZNAME:BST
END:DAYLIGHT
BEGIN:DAYLIGHT
DTSTART:20230326T010000
TZOFFSETFROM:+0000
TZOFFSETTO:+0100
TZNAME:BST
END:DAYLIGHT
BEGIN:STANDARD
DTSTART:20221030T010000
TZOFFSETFROM:+0100
TZOFFSETTO:+0000
TZNAME:GMT
END:STANDARD
END:VTIMEZONE
BEGIN:VEVENT
UID:2ab4a7ce-6975-437b-a84e-43bce40896c8
DTSTAMP:20221102T234628Z
SUMMARY:W3C Internationalization Working Group Teleconference
DTSTART;TZID=Europe/London:20221103T150000
DTEND;TZID=Europe/London:20221103T160000
DESCRIPTION:https://www.w3.org/events/meetings/2ab4a7ce-6975-437b-a84e-43bc
 e40896c8/20221103T150000/\n\n***NOTE WELL*** This meeting is scheduled in 
 `Europe/London` time. Attendees in time zones (such as North America) that
  do not observe or observe different daylight savings/summer time changes 
 should check the local wall time of this event.\n\nAgenda\n\n#### Pending 
 Issue Review\nhttps://github.com/w3c/i18n-activity/issues?q=is%3Aissue+is%
 3Aopen+label%3Apending\n\n#### Font fallback article\nhttps://w3c.github.i
 o/i18n-drafts/articles/typography/fontstyles.en.html\n\n#### Review wot-di
 scovery issues\nhttps://github.com/w3c/i18n-activity/issues?q=is%3Aissue+i
 s%3Aopen+label%3As%3Awot-discovery\n\n---\n\n### BE PREPARED \n\n\n### REM
 INDER \n\nGetting too many of these notifications? Read [this](https://lis
 ts.w3.org/Archives/Member/member-i18n-core/2022Mar/0013.html) email from R
 ichard on how to manage notifications.\n\n### SCRIBE \n\nIf you are set to
  scribe and cannot make it\, please send regrets to the chair. Volunteers 
 to act as scribe cheerfully accepted.\n\nFuqiao *\nAtsushi [2022-07-21]\nF
 elix [2022-10-20]\nBert [2022-10-27]\n\n### MEETING INFO\n\nhttps://www.w3
 .org/2017/09/i18n-meeting-info.html (Member Only Link)\n\n### AGENDA (for 
 agendabot)\n\nTopic: Agenda Review\nTopic: Action Items\nTopic: Info Share
 \nTopic: RADAR Review\nTopic: Pending Issue Review\nTopic: Font fallback a
 rticle\nTopic: Review WOT-Discovery issues\nTopic: AOB?\n\n### Chair's Lin
 k Farm\nhttps://www.w3.org/International/track/actions/open\nhttps://githu
 b.com/w3c/i18n-request/projects/1\nhttps://github.com/w3c/i18n-activity/is
 sues?q=is%3Aissue+is%3Aopen+label%3Apending
STATUS:CONFIRMED
CREATED:20221031T161342Z
LAST-MODIFIED:20221102T234628Z
SEQUENCE:6
ORGANIZER;CN=W3C Calendar;PARTSTAT=ACCEPTED;ROLE=NON-PARTICIPANT:mailto:nor
 eply@w3.org
ATTENDEE;CUTYPE=GROUP;ROLE=OPT-PARTICIPANT;RSVP=FALSE;CN=Internationalizati
 on Working Group:mailto:public-i18n-core@w3.org
LOCATION:Location: https://www.w3.org/2017/09/i18n-meeting-info.html
RECURRENCE-ID;TZID=Europe/London:20221103T150000
END:VEVENT
END:VCALENDAR
