BEGIN:VCALENDAR
VERSION:2.0
PRODID:-//Sabre//Sabre VObject 4.5.8//EN
CALSCALE:GREGORIAN
LAST-MODIFIED:20210414T001626Z
BEGIN:VTIMEZONE
TZID:America/Los_Angeles
X-MICROSOFT-CDO-TZID:13
BEGIN:STANDARD
DTSTART:20201101T090000
TZOFFSETFROM:-0700
TZOFFSETTO:-0800
TZNAME:PST
END:STANDARD
BEGIN:STANDARD
DTSTART:20211107T090000
TZOFFSETFROM:-0700
TZOFFSETTO:-0800
TZNAME:PST
END:STANDARD
BEGIN:DAYLIGHT
DTSTART:20210314T100000
TZOFFSETFROM:-0800
TZOFFSETTO:-0700
TZNAME:PDT
END:DAYLIGHT
END:VTIMEZONE
BEGIN:VEVENT
UID:29c26831-d0ea-4143-8530-b150eddea2f2
DTSTAMP:20210414T001626Z
SUMMARY:ARIA Deep-dive - required/allowed parent and child structures and c
 ontrols
DTSTART;TZID=America/Los_Angeles:20210415T090000
DTEND;TZID=America/Los_Angeles:20210415T095000
DESCRIPTION:https://www.w3.org/events/meetings/29c26831-d0ea-4143-8530-b150
 eddea2f2/\n\nWe'll be discussing https://github.com/w3c/aria/pull/1454 \n\
 nThis could help solve a number of tricky issues in\nhttps://github.com/w3
 c/aria/issues/1440 & https://github.com/w3c/aria/issues/1033\n\nIf time al
 lows there are many more similar issues to look at in https://github.com/w
 3c/aria/projects/16\n\nAgenda\n\nWe'll be discussing https://github.com/w3
 c/aria/pull/1454 \n\nThis could help solve a number of tricky issues in\nh
 ttps://github.com/w3c/aria/issues/1440 & https://github.com/w3c/aria/issue
 s/1033\n\nIf time allows there are many more similar issues to look at in 
 https://github.com/w3c/aria/projects/16
STATUS:CONFIRMED
CREATED:20210414T001626Z
LAST-MODIFIED:20210414T001626Z
SEQUENCE:0
ORGANIZER;CN=W3C Calendar;PARTSTAT=ACCEPTED;ROLE=NON-PARTICIPANT:mailto:nor
 eply@w3.org
ATTENDEE;CUTYPE=GROUP;ROLE=OPT-PARTICIPANT;RSVP=FALSE;CN=Accessible Rich In
 ternet Applications Working Group:mailto:public-aria@w3.org
END:VEVENT
END:VCALENDAR
