BEGIN:VCALENDAR
VERSION:2.0
PRODID:-//Sabre//Sabre VObject 4.5.8//EN
CALSCALE:GREGORIAN
LAST-MODIFIED:20241011T152640Z
BEGIN:VTIMEZONE
TZID:America/Los_Angeles
X-MICROSOFT-CDO-TZID:13
BEGIN:STANDARD
DTSTART:20231105T090000
TZOFFSETFROM:-0700
TZOFFSETTO:-0800
TZNAME:PST
END:STANDARD
BEGIN:STANDARD
DTSTART:20241103T090000
TZOFFSETFROM:-0700
TZOFFSETTO:-0800
TZNAME:PST
END:STANDARD
BEGIN:DAYLIGHT
DTSTART:20240310T100000
TZOFFSETFROM:-0800
TZOFFSETTO:-0700
TZNAME:PDT
END:DAYLIGHT
END:VTIMEZONE
BEGIN:VEVENT
UID:29989aad-dcba-4bef-9167-76cbc6fc4d3d
DTSTAMP:20241011T152640Z
SUMMARY:Decentralized Identifier Working Group
DTSTART;TZID=America/Los_Angeles:20240923T090000
DTEND;TZID=America/Los_Angeles:20240923T180000
DESCRIPTION:https://www.w3.org/events/meetings/29989aad-dcba-4bef-9167-76cb
 c6fc4d3d/\n\n\n\nAgenda\n\n| Start    | End | Session Title |\n| -------- 
 | ------- |------- |\n| 9:00	| 9:30	| Welcome\, Introductions\, and Logist
 ics |\n| 9:30	| 10:00	| State of the Industry |\n| 10:00	| 10:30	| A short
  history of DIDs |\n| 10:30	| 11:00	| Break |\n| 11:00	| 11:30	| DID Metho
 d Standardization |\n| 11:30	| 11:45	| Self-Describing DID Methods |\n| 11
 :45	| 12:00	| DID DHT |\n| 12:00	| 12:15	| BTCR lessons learned and improv
 ements |\n| 12:15	| 12:30	| Work Item Inventory |\n| 12:30	| 13:30	| Lunch
  |\n|  13:30	| 14:00	| DID Registry Process |\n| 14:00	| 14:30	| DID Metho
 ds |\n| 14:30	| 15:00	| DID Extensions |\n| 15:00	| 15:30	| DID Rubric |\n
 | 15:30	| 16:00	| DID Traits (Feature Sets) |\n| 16:00	| 16:30	| Break |\n
 | 16:30	| 17:30	| Controller Document |\n| 17:30	| 18:00	| What's Interope
 rability? How can we test/demonstrate it  |
STATUS:CONFIRMED
CREATED:20240614T163331Z
LAST-MODIFIED:20241011T152640Z
SEQUENCE:7
ORGANIZER;CN=W3C Calendar;PARTSTAT=ACCEPTED;ROLE=NON-PARTICIPANT:mailto:nor
 eply@w3.org
ATTENDEE;CUTYPE=GROUP;ROLE=OPT-PARTICIPANT;RSVP=FALSE;CN=Decentralized Iden
 tifier Working Group:mailto:public-did-wg@w3.org
LOCATION:4 Concourse Level - Capistrano
CATEGORIES:TPAC 2024,Group Meetings
END:VEVENT
END:VCALENDAR
