BEGIN:VCALENDAR
VERSION:2.0
PRODID:-//Sabre//Sabre VObject 4.5.8//EN
CALSCALE:GREGORIAN
LAST-MODIFIED:20251021T142857Z
BEGIN:VTIMEZONE
TZID:Europe/London
X-MICROSOFT-CDO-TZID:1
BEGIN:DAYLIGHT
DTSTART:20250330T010000
TZOFFSETFROM:+0000
TZOFFSETTO:+0100
TZNAME:BST
END:DAYLIGHT
BEGIN:STANDARD
DTSTART:20251026T010000
TZOFFSETFROM:+0100
TZOFFSETTO:+0000
TZNAME:GMT
END:STANDARD
END:VTIMEZONE
BEGIN:VEVENT
UID:2958fbd0-8609-4d69-a040-ab7bd11bc6fb
DTSTAMP:20251021T142857Z
SUMMARY:Internationalization (I18N) WG Teleconference
DTSTART;TZID=Europe/London:20251023T150000
DTEND;TZID=Europe/London:20251023T160000
DESCRIPTION:https://www.w3.org/events/meetings/2958fbd0-8609-4d69-a040-ab7b
 d11bc6fb/20251023T150000/\n\n***NOTE WELL*** This meeting is scheduled in 
 the `Europe/London` time zone. \n\nThat time zone observes Daylight Saving
 s/Summer Time. Your local time for this call may vary due to differences i
 n your local time zone's observation of DST/ST from that of the UK.\n\n###
  Agenda Items of Note This Week\n\nAgenda\n\n### BE PREPARED \nThings to d
 o before the meeting:\n\n---\n\n### Topic: Agenda Review\n\n### Topic: Act
 ion Items\n_Review of open action items from previous meetings_\n* [I18N-A
 CTIONS](https://github.com/w3c/i18n-actions/issues)\n\n### Topic: Info Sha
 re\n_Share information of interest to the working group or pertaining to i
 nternationalization in general._\n\n### Topic: Review RADAR Review\n_Time 
 to review new and on-going requests for specification review. Incoming req
 uests are assigned to shepherds in this part of the call._\n_In addition\,
  we review the status of specifications that have received comments. *Plea
 se review your issues and owned items in advance of the call*_\n* [RADAR](
 https://github.com/orgs/w3c/projects/91/views/1)\n\n### Topic: Pending Iss
 ue Review\n_Review of new and pending issues raised by working group membe
 rs or via the various bots._\n* [Pending Issues](https://github.com/w3c/i1
 8n-activity/issues?q=is%3Aissue+is%3Aopen+label%3Apending)\n\n---\n\n### T
 opic: TPAC Planning\n_TPAC is coming soon. We'll have additional challenge
 s. Let's discuss_\n\n---\n\n### Topic: AOB?\n\n#### REMINDER \nGetting too
  many of these notifications? Read [this](https://lists.w3.org/Archives/Me
 mber/member-i18n-core/2022Mar/0013.html) email from Richard on how to mana
 ge notifications.\n\n\n#### SCRIBE \nIf you are set to scribe and cannot m
 ake it\, please send regrets to the chair. Volunteers to act as scribe che
 erfully accepted.\n\n* Bert\n* Fuqiao\n* Atsushi\n\n#### Chair's Link Farm
 \n[Actions](https://github.com/w3c/i18n-actions/issues)\n[RADAR](https://g
 ithub.com/orgs/w3c/projects/91/views/1)\n[pending issues](https://github.c
 om/w3c/i18n-activity/issues?q=is%3Aissue+is%3Aopen+label%3Apending)\n[`clo
 se?` issues](https://github.com/w3c/i18n-activity/issues?q=is%3Aissue%20is
 %3Aopen%20label%3Aclose%3F)\n[Public list](https://lists.w3.org/Archives/P
 ublic/public-i18n-core/)\n[Member list](https://lists.w3.org/Archives/Memb
 er/member-i18n-core/)\n[Chair dashboard](https://www.w3.org/PM/Groups/chai
 rboard.html?gid=wg/i18n-core)\n\n***WHAT IS THIS?*** This is the regular w
 eekly teleconference of the W3C Internationalization Working Group.\n\n***
 AGENDA+*** If you would like the chair to consider adding an item to the a
 genda\, please send email to the public-i18n-core@ mailing list with a sub
 ject line starting `agenda+`. Here is an [example](https://lists.w3.org/Ar
 chives/Public/public-i18n-core/2023OctDec/0007.html).
STATUS:CONFIRMED
CREATED:20251021T142857Z
LAST-MODIFIED:20251021T142857Z
SEQUENCE:2
ORGANIZER;CN=W3C Calendar;PARTSTAT=ACCEPTED;ROLE=NON-PARTICIPANT:mailto:nor
 eply@w3.org
ATTENDEE;CUTYPE=GROUP;ROLE=OPT-PARTICIPANT;RSVP=FALSE;CN=Internationalizati
 on Working Group:mailto:public-i18n-core@w3.org
RECURRENCE-ID;TZID=Europe/London:20251023T150000
END:VEVENT
END:VCALENDAR
